Workbook

Sheet 규격서
A1: 규격서
A2: 번호 | B2: 품명 | C2: 규격 | D2: 단위 | E2: 총수량 | F2: 가축방역 | G2: 질병진단 | H2: 해외전염병 | I2: ASF | J2: 조류질병 | K2: 동부 | L2: 남부
A3: 계 | B3: 118종 | E3: =SUM(E4:E121) -> 1697 | F3: =SUM(F4:F121) -> 311 | G3: =SUM(G4:G121) -> 183 | H3: =SUM(H4:H121) -> 0 | I3: =SUM(I4:I121) -> 490 | J3: =SUM(J4:J121) -> 70 | K3: =SUM(K4:K121) -> 282 | L3: =SUM(L4:L121) -> 361
A4: 1 | B4: ASFV real time PCR kit | C4: PowerChek ASFV Real-time PCR Kit Ver.1.0, VR0855D, 96 reactions, Kogene | D4: kit | E4: =SUM(F4:L4) -> 50 | I4: 50
A5: 2 | B5: ASFV qPCR kit | C5: Median diagnostics, VDx® ASFV qPCR, NS-ASF-31, 96test/kit | D5: kit | E5: =SUM(F5:L5) -> 60 | I5: 60
A6: 3 | B6: Viral DNA/RNA Extraction kit | C6: VN101, 96t, 24-strips*4 (Genolution NX-48장비의 소모품) | D6: kit | E6: =SUM(F6:L6) -> 10 | J6: 5 | K6: 5
A7: 4 | B7: Viral DNA/RNA Extraction kit | C7: VN111, 48t, 8-strips*6 (Genolution NX-48장비의 소모품) | D7: kit | E7: =SUM(F7:L7) -> 8 | G7: 3 | J7: 5
A8: 5 | B8: Viral DNA/RNA Extraction kit | C8: VN121, 48t, 1-strips*48 (Genolution NX-48장비의 소모품) | D8: kit | E8: =SUM(F8:L8) -> 3 | G8: 3
A9: 6 | B9: Viral DNA/RNA Extraction kit | C9: VN101, 96t, 24-strips*4 (Genolution NX-48장비의 소모품) | D9: kit | E9: =SUM(F9:L9) -> 1 | G9: 1
A10: 7 | B10: Viral DNA/RNA Extraction kit | C10: VN111, 48t, 8-strips*6 (Genolution NX-48장비의 소모품) | D10: kit | E10: =SUM(F10:L10) -> 6 | G10: 2 | K10: 2 | L10: 2
A11: 8 | B11: Viral DNA/RNA Extraction kit | C11: VN121, 48t, 1-strips*48 (Genolution NX-48장비의 소모품) | D11: kit | E11: =SUM(F11:L11) -> 3 | G11: 1 | K11: 1 | L11: 1
A12: 9 | B12: AI real time RT-PCR(H5 gene) | C12: AI H5 gene detection. 96test(8strip*12), VR8200(농림축산검역본부 인증) | D12: kit | E12: =SUM(F12:L12) -> 5 | J12: 5
A13: 10 | B13: AI real time RT-PCR(H7 gene) | C13: AI H7 gene detection. 96test(8strip*12), VR8300(농림축산검역본부 인증) | D13: kit | E13: =SUM(F13:L13) -> 5 | J13: 5
A14: 11 | B14: HiQ Viral DNA/RNA kit v3.0 | C14: P0053R, HiQ V iral DNA/RNA kit, V 3.0 96 Tests | D14: kit | E14: =SUM(F14:L14) -> 23 | J14: 5 | K14: 5 | L14: 13
A15: 12 | B15: HiQ Viral DNA/RNA kit v3.0 | C15: P0054R, HiQ V iral DNA/RNA kit, V 3.0 48 Tests | D15: kit | E15: =SUM(F15:L15) -> 307 | I15: 250 | J15: 5 | K15: 50 | L15: 2
A16: 13 | B16: HiQ Viral DNA/RNA kit v3.0 | C16: P0055R, HiQ V iral DNA/RNA kit, V 3.0 96 Tests | D16: kit | E16: =SUM(F16:L16) -> 1 | L16: 1
A17: 14 | B17: Viral DNA/RNA Extraction kit(GD151) | C17: GD151, 48t, 8-strips*6 (Genolution NX-48장비의 소모품) | D17: kit | E17: =SUM(F17:L17) -> 50 | K17: 50
A18: 15 | B18: IB ELISA | C18: IDEXX, 99-09262, 460 test/box | D18: box | E18: =SUM(F18:L18) -> 2 | G18: 1 | L18: 1
A19: 16 | B19: CAV ELISA | C19: IDEXX, 99-08702, 460test/box | D19: box | E19: =SUM(F19:L19) -> 1 | L19: 1
A20: 17 | B20: AE ELISA | C20: IDEXX, 99-09259, 460test/box | D20: box | E20: =SUM(F20:L20) -> 1 | K20: 1
A21: 18 | B21: APV Ab Test | C21: 99-44300, 460t/bx, Idexx | D21: box | E21: =SUM(F21:L21) -> 2 | L21: 2
A22: 19 | B22: SE Ab Test | C22: 99-0002040, 460t/bx, Idexx | D22: box | E22: =SUM(F22:L22) -> 1 | G22: 1
A23: 20 | B23: Tryptic Soy Agar | C23: OXOID, CM0131, 500g | D23: bt | E23: =SUM(F23:L23) -> 1 | G23: 1
A24: 21 | B24: VITEK2 GN ID card | C24: bioMérieux, 21341, 20cards/box(VITEK2의 소모품) | D24: box | E24: =SUM(F24:L24) -> 2 | G24: 2
A25: 22 | B25: VITEK2 GP ID card | C25: bioMérieux, 21342, 20cards/box(VITEK2의 소모품) | D25: box | E25: =SUM(F25:L25) -> 3 | G25: 3
A26: 23 | B26: VITEK2 GP80 AST Card | C26: bioMérieux, 421826, 20cards/box | D26: box | E26: =SUM(F26:L26) -> 4 | G26: 4
A27: 24 | B27: VITEK2 GN97 AST Card | C27: bioMérieux, 422000, 20cards/box | D27: box | E27: =SUM(F27:L27) -> 2 | G27: 2
A28: 25 | B28: Mycoplasma gallisepticum Ab Test Kit (종계장검사용) | C28: [BioChek] CK114, ,MG, 460tests/box | D28: box | E28: =SUM(F28:L28) -> 1 | J28: 1
A29: 26 | B29: 20X PBS | C29: 20X PBS Buffer, PR2007-100-74-1L/(1X working sol. ph7.4),DNase- and RNase-free | D29: bt | E29: =SUM(F29:L29) -> 3 | I29: 3
A30: 27 | B30: EDTA tube | C30: soya, 206204(purple), 6ml, 1000pcs/bx | D30: box | E30: =SUM(F30:L30) -> 3 | G30: 1 | K30: 1 | L30: 1
A31: 28 | B31: Heparin tube | C31: soya #400307, 10ml, 1000ea/box | D31: box | E31: =SUM(F31:L31) -> 10 | F31: 10
A32: 29 | B32: SSGT tube | C32: AMPULAB, REF.108302, clot activator with gel, 1000pcs/box, 10ml | D32: box | E32: =SUM(F32:L32) -> 10 | F32: 5 | L32: 5
A33: 30 | B33: Stock tube | C33: Abtek, cyrogenic storage tubes 80 tubes(20 of each color)/box | D33: box | E33: =SUM(F33:L33) -> 1 | G33: 1
A34: 31 | B34: conical tube(screw, 15ml) | C34: SPL #50015, screw tube, 15ml, 50 in sleeve/500/box | D34: box | E34: =SUM(F34:L34) -> 4 | G34: 4
A35: 32 | B35: Deep well | C35: ssedapan™ 96 well 1.2ml, 10rack/pk, 5pk/cs, SDP-96DWP | D35: box | E35: =SUM(F35:L35) -> 25 | F35: 20 | L35: 5
A36: 33 | B36: Microplate(V-from) | C36: Greiner, 651101 V type,100개/box | D36: box | E36: =SUM(F36:L36) -> 3 | J36: 3
A37: 34 | B37: loop and needle | C37: SPL #90001, 1 ㎕, 500ea/box | D37: box | E37: =SUM(F37:L37) -> 3 | G37: 3
A38: 35 | B38: AnaeroGen | C38: AN0025A, 2.5L, 10ea/pk | D38: pk | E38: =SUM(F38:L38) -> 1 | G38: 1
A39: 36 | B39: 주사기 1cc | C39: 1ml, 4,200개/box, 25G 5/8, 정림 | D39: box | E39: =SUM(F39:L39) -> 3 | F39: 2 | L39: 1
A40: 37 | B40: 주사기 3cc | C40: S-1 3ml, 1800pcs/box, 24G, 19mm, 더블세이프 | D40: box | E40: =SUM(F40:L40) -> 5 | J40: 5
...

Sheet 팀별,부기별
A1: 번호 | B1: 품명 | C1: 규격 | D1: 단위 | E1: 수량 | F1: 단가 (세액포함) | G1: 금액 | H1: 단가 (세액포함)2 | I1: 금액3 | J1: 단가 (세액포함)4 | K1: 금액5 | L1: 단가 (세액포함)6 | M1: 금액7 | N1: 가축방역 | O1: 질병진단 | P1: 해외전염병 | Q1: ASF | R1: 조류질병 | S1: 동부 | T1: 남부 | U1: 해당팀 | V1: 예산부기명
A2: 1 | B2: ASFV real time PCR kit | C2: PowerChek ASFV Real-time PCR Kit Ver.1.0, VR0855D, 96 reactions, Kogene | D2: kit | E2: =SUM(N2:T2) -> 205 | F2: =VLOOKUP(A2,규격서!$A$4:$E$121,6,0) -> #REF! | G2: =E2*F2 -> #REF! | H2: =VLOOKUP(A2,규격서!$A$4:$E$121,8,0) -> #REF! | I2: =E2*H2 -> #REF! | J2: =VLOOKUP(A2,규격서!$A$4:$E$121,10,0) -> #REF! | K2: =J2*E2 -> #REF! | L2: =VLOOKUP(A2,규격서!$A$4:$E$121,12,0) -> #REF! | M2: =E2*L2 -> #REF! | Q2: 115 | S2: 55 | T2: 35 | U2: ASF대응팀 | V2: 주요전염병검진 | X2: 행 레이블 | Y2: 합계 : 금액 | AA2: 행 레이블 | AB2: 합계 : 금액
A3: 2 | B3: ASFV qPCR kit | C3: Median diagnostics, VDx® ASFV qPCR, NS-ASF-31, 96test/kit | D3: kit | E3: =SUM(N3:T3) -> 110 | F3: =VLOOKUP(A3,규격서!$A$4:$E$121,6,0) -> #REF! | G3: =E3*F3 -> #REF! | H3: =VLOOKUP(A3,규격서!$A$4:$E$121,8,0) -> #REF! | I3: =E3*H3 -> #REF! | J3: =VLOOKUP(A3,규격서!$A$4:$E$121,10,0) -> #REF! | K3: =J3*E3 -> #REF! | L3: =VLOOKUP(A3,규격서!$A$4:$E$121,12,0) -> #REF! | M3: =E3*L3 -> #REF! | Q3: 110 | U3: ASF대응팀 | V3: 주요전염병검진 | X3: 주요전염병검진 | Y3: 1468805390 | AA3: 가축방역팀 | AB3: 94575470
A4: 3 | B4: Viral DNA/RNA Extraction kit | C4: VN101, 96t, 24-strips*4 (Genolution NX-48장비의 소모품) | D4: kit | E4: =SUM(N4:T4) -> 150 | F4: =VLOOKUP(A4,규격서!$A$4:$E$121,6,0) -> #REF! | G4: =E4*F4 -> #REF! | H4: =VLOOKUP(A4,규격서!$A$4:$E$121,8,0) -> #REF! | I4: =E4*H4 -> #REF! | J4: =VLOOKUP(A4,규격서!$A$4:$E$121,10,0) -> #REF! | K4: =J4*E4 -> #REF! | L4: =VLOOKUP(A4,규격서!$A$4:$E$121,12,0) -> #REF! | M4: =E4*L4 -> #REF! | R4: 40 | S4: 40 | T4: 70 | U4: 조류질병대응팀 | V4: 주요전염병검진 | X4: ASF대응팀 | Y4: 768336510 | AA4: 질병진단팀 | AB4: 118237870
A5: =A4 -> 3 | B5: Viral DNA/RNA Extraction kit | C5: VN101, 96t, 24-strips*4 (Genolution NX-48장비의 소모품) | D5: kit | E5: =SUM(N5:T5) -> 21 | F5: =VLOOKUP(A5,규격서!$A$4:$E$121,6,0) -> #REF! | G5: =E5*F5 -> #REF! | H5: =VLOOKUP(A5,규격서!$A$4:$E$121,8,0) -> #REF! | I5: =E5*H5 -> #REF! | J5: =VLOOKUP(A5,규격서!$A$4:$E$121,10,0) -> #REF! | K5: =J5*E5 -> #REF! | L5: =VLOOKUP(A5,규격서!$A$4:$E$121,12,0) -> #REF! | M5: =E5*L5 -> #REF! | O5: 3 | S5: 11 | T5: 7 | U5: 질병진단팀 | V5: 가축질병 모니터링 | X5: 가축방역팀 | Y5: 93961450 | AA5: 해외전염병팀 | AB5: 59265900
A6: 4 | B6: Viral DNA/RNA Extraction kit | C6: VN111, 48t, 8-strips*6 (Genolution NX-48장비의 소모품) | D6: kit | E6: =SUM(N6:T6) -> 3 | F6: =VLOOKUP(A6,규격서!$A$4:$E$121,6,0) -> #REF! | G6: =E6*F6 -> #REF! | H6: =VLOOKUP(A6,규격서!$A$4:$E$121,8,0) -> #REF! | I6: =E6*H6 -> #REF! | J6: =VLOOKUP(A6,규격서!$A$4:$E$121,10,0) -> #REF! | K6: =J6*E6 -> #REF! | L6: =VLOOKUP(A6,규격서!$A$4:$E$121,12,0) -> #REF! | M6: =E6*L6 -> #REF! | Q6: 3 | U6: ASF대응팀 | V6: 주요전염병검진 | X6: 조류질병대응팀 | Y6: 569715530 | AA6: ASF대응팀 | AB6: 770336110
A7: =A6 -> 4 | B7: Viral DNA/RNA Extraction kit | C7: VN111, 48t, 8-strips*6 (Genolution NX-48장비의 소모품) | D7: kit | E7: =SUM(N7:T7) -> 100 | F7: =VLOOKUP(A7,규격서!$A$4:$E$121,6,0) -> #REF! | G7: =E7*F7 -> #REF! | H7: =VLOOKUP(A7,규격서!$A$4:$E$121,8,0) -> #REF! | I7: =E7*H7 -> #REF! | J7: =VLOOKUP(A7,규격서!$A$4:$E$121,10,0) -> #REF! | K7: =J7*E7 -> #REF! | L7: =VLOOKUP(A7,규격서!$A$4:$E$121,12,0) -> #REF! | M7: =E7*L7 -> #REF! | R7: 20 | S7: 40 | T7: 40 | U7: 조류질병대응팀 | V7: 가금농가 질병관리 지원 | X7: 해외전염병팀 | Y7: 36791900 | AA7: 조류질병대응팀 | AB7: 763897620
A8: 5 | B8: Viral DNA/RNA Extraction kit | C8: VN121, 48t, 1-strips*48 (Genolution NX-48장비의 소모품) | D8: kit | E8: =SUM(N8:T8) -> 3 | F8: =VLOOKUP(A8,규격서!$A$4:$E$121,6,0) -> #REF! | G8: =E8*F8 -> #REF! | H8: =VLOOKUP(A8,규격서!$A$4:$E$121,8,0) -> #REF! | I8: =E8*H8 -> #REF! | J8: =VLOOKUP(A8,규격서!$A$4:$E$121,10,0) -> #REF! | K8: =J8*E8 -> #REF! | L8: =VLOOKUP(A8,규격서!$A$4:$E$121,12,0) -> #REF! | M8: =E8*L8 -> #REF! | Q8: 3 | U8: ASF대응팀 | V8: 주요전염병검진 | X8: 가금농가 질병관리 지원 | Y8: 181321090 | AA8: 총합계 | AB8: 1806312970
A9: =A8 -> 5 | B9: Viral DNA/RNA Extraction kit | C9: VN121, 48t, 1-strips*48 (Genolution NX-48장비의 소모품) | D9: kit | E9: =SUM(N9:T9) -> 25 | F9: =VLOOKUP(A9,규격서!$A$4:$E$121,6,0) -> #REF! | G9: =E9*F9 -> #REF! | H9: =VLOOKUP(A9,규격서!$A$4:$E$121,8,0) -> #REF! | I9: =E9*H9 -> #REF! | J9: =VLOOKUP(A9,규격서!$A$4:$E$121,10,0) -> #REF! | K9: =J9*E9 -> #REF! | L9: =VLOOKUP(A9,규격서!$A$4:$E$121,12,0) -> #REF! | M9: =E9*L9 -> #REF! | R9: 10 | S9: 15 | U9: 조류질병대응팀 | V9: 혈청검사 및 병성감정 | X9: 조류질병대응팀 | Y9: 181321090
A10: 6 | B10: TANBead Nucleic Acid Extraction Kit | C10: TANBead OptiPure Viral Auto Plate(M665A46), 96 Prep/Box, M665A46 | D10: box | E10: =SUM(N10:T10) -> 10 | F10: =VLOOKUP(A10,규격서!$A$4:$E$121,6,0) -> #REF! | G10: =E10*F10 -> #REF! | H10: =VLOOKUP(A10,규격서!$A$4:$E$121,8,0) -> #REF! | I10: =E10*H10 -> #REF! | J10: =VLOOKUP(A10,규격서!$A$4:$E$121,10,0) -> #REF! | K10: =J10*E10 -> #REF! | L10: =VLOOKUP(A10,규격서!$A$4:$E$121,12,0) -> #REF! | M10: =E10*L10 -> #REF! | R10: 10 | U10: 조류질병대응팀 | V10: 주요전염병검진 | X10: 가축질병 모니터링 | Y10: 80334600
A11: 7 | B11: Maxwell RSC TNA kit | C11: AS 1330, 48preps/kit (Maxwell RSC 소모품) | D11: kit | E11: =SUM(N11:T11) -> 10 | F11: =VLOOKUP(A11,규격서!$A$4:$E$121,6,0) -> #REF! | G11: =E11*F11 -> #REF! | H11: =VLOOKUP(A11,규격서!$A$4:$E$121,8,0) -> #REF! | I11: =E11*H11 -> #REF! | J11: =VLOOKUP(A11,규격서!$A$4:$E$121,10,0) -> #REF! | K11: =J11*E11 -> #REF! | L11: =VLOOKUP(A11,규격서!$A$4:$E$121,12,0) -> #REF! | M11: =E11*L11 -> #REF! | Q11: 10 | U11: ASF대응팀 | V11: 주요전염병검진 | X11: 질병진단팀 | Y11: 80334600
A12: =A11 -> 7 | B12: Maxwell RSC TNA kit | C12: AS 1330, 48preps/kit (Maxwell RSC 소모품) | D12: kit | E12: =SUM(N12:T12) -> 3 | F12: =VLOOKUP(A12,규격서!$A$4:$E$121,6,0) -> #REF! | G12: =E12*F12 -> #REF! | H12: =VLOOKUP(A12,규격서!$A$4:$E$121,8,0) -> #REF! | I12: =E12*H12 -> #REF! | J12: =VLOOKUP(A12,규격서!$A$4:$E$121,10,0) -> #REF! | K12: =J12*E12 -> #REF! | L12: =VLOOKUP(A12,규격서!$A$4:$E$121,12,0) -> #REF! | M12: =E12*L12 -> #REF! | P12: 3 | U12: 해외전염병팀 | V12: 혈청검사 및 병성감정 | X12: 혈청검사 및 병성감정 | Y12: 42753120
A13: 8 | B13: AI real time RT-PCR(M gene) | C13: AI M gene detection. 96test(8strip*12), VR8100(농림축산검역본부 인증) | D13: kit | E13: =SUM(N13:T13) -> 163 | F13: =VLOOKUP(A13,규격서!$A$4:$E$121,6,0) -> #REF! | G13: =E13*F13 -> #REF! | H13: =VLOOKUP(A13,규격서!$A$4:$E$121,8,0) -> #REF! | I13: =E13*H13 -> #REF! | J13: =VLOOKUP(A13,규격서!$A$4:$E$121,10,0) -> #REF! | K13: =J13*E13 -> #REF! | L13: =VLOOKUP(A13,규격서!$A$4:$E$121,12,0) -> #REF! | M13: =E13*L13 -> #REF! | R13: 40 | S13: 35 | T13: 88 | U13: 조류질병대응팀 | V13: 주요전염병검진 | X13: ASF대응팀 | Y13: 1999600
A14: 9 | B14: AI real time RT-PCR(H5 gene) | C14: AI H5 gene detection. 96test(8strip*12), VR8200(농림축산검역본부 인증) | D14: kit | E14: =SUM(N14:T14) -> 65 | F14: =VLOOKUP(A14,규격서!$A$4:$E$121,6,0) -> #REF! | G14: =E14*F14 -> #REF! | H14: =VLOOKUP(A14,규격서!$A$4:$E$121,8,0) -> #REF! | I14: =E14*H14 -> #REF! | J14: =VLOOKUP(A14,규격서!$A$4:$E$121,10,0) -> #REF! | K14: =J14*E14 -> #REF! | L14: =VLOOKUP(A14,규격서!$A$4:$E$121,12,0) -> #REF! | M14: =E14*L14 -> #REF! | R14: 20 | S14: 35 | T14: 10 | U14: 조류질병대응팀 | V14: 주요전염병검진 | X14: 가축방역팀 | Y14: 614020
A15: 10 | B15: AI real time RT-PCR(H7 gene) | C15: AI H7 gene detection. 96test(8strip*12), VR8300(농림축산검역본부 인증) | D15: kit | E15: =SUM(N15:T15) -> 8 | F15: =VLOOKUP(A15,규격서!$A$4:$E$121,6,0) -> #REF! | G15: =E15*F15 -> #REF! | H15: =VLOOKUP(A15,규격서!$A$4:$E$121,8,0) -> #REF! | I15: =E15*H15 -> #REF! | J15: =VLOOKUP(A15,규격서!$A$4:$E$121,10,0) -> #REF! | K15: =J15*E15 -> #REF! | L15: =VLOOKUP(A15,규격서!$A$4:$E$121,12,0) -> #REF! | M15: =E15*L15 -> #REF! | R15: 5 | S15: 2 | T15: 1 | U15: 조류질병대응팀 | V15: 주요전염병검진 | X15: 조류질병대응팀 | Y15: 12861000
A16: 11 | B16: AI real time RT-PCR(H9 gene) | C16: AnyQvet AIV H9 qRT-PCR, 96T(8-strip) Cat.No.CS005 | D16: kit | E16: =SUM(N16:T16) -> 5 | F16: =VLOOKUP(A16,규격서!$A$4:$E$121,6,0) -> #REF! | G16: =E16*F16 -> #REF! | H16: =VLOOKUP(A16,규격서!$A$4:$E$121,8,0) -> #REF! | I16: =E16*H16 -> #REF! | J16: =VLOOKUP(A16,규격서!$A$4:$E$121,10,0) -> #REF! | K16: =J16*E16 -> #REF! | L16: =VLOOKUP(A16,규격서!$A$4:$E$121,12,0) -> #REF! | M16: =E16*L16 -> #REF! | R16: 5 | U16: 조류질병대응팀 | V16: 주요전염병검진 | X16: 질병진단팀 | Y16: 4804500
A17: 12 | B17: Opti AIV-Qpcr kit(Mgene) | C17: Opti AIV-Qpcr kit, AVVS-001, 96test/kit | D17: kit | E17: =SUM(N17:T17) -> 90 | F17: =VLOOKUP(A17,규격서!$A$4:$E$121,6,0) -> #REF! | G17: =E17*F17 -> #REF! | H17: =VLOOKUP(A17,규격서!$A$4:$E$121,8,0) -> #REF! | I17: =E17*H17 -> #REF! | J17: =VLOOKUP(A17,규격서!$A$4:$E$121,10,0) -> #REF! | K17: =J17*E17 -> #REF! | L17: =VLOOKUP(A17,규격서!$A$4:$E$121,12,0) -> #REF! | M17: =E17*L17 -> #REF! | R17: 70 | T17: 20 | U17: 조류질병대응팀 | V17: 주요전염병검진 | X17: 해외전염병팀 | Y17: 22474000
A18: 13 | B18: Opti AIV-H5/7/9 Multi-qPCR | C18: Opti AIV-H5/7/9 Multi-qPCR kit, AVVS-008, 96test/kit | D18: kit | E18: =SUM(N18:T18) -> 20 | F18: =VLOOKUP(A18,규격서!$A$4:$E$121,6,0) -> #REF! | G18: =E18*F18 -> #REF! | H18: =VLOOKUP(A18,규격서!$A$4:$E$121,8,0) -> #REF! | I18: =E18*H18 -> #REF! | J18: =VLOOKUP(A18,규격서!$A$4:$E$121,10,0) -> #REF! | K18: =J18*E18 -> #REF! | L18: =VLOOKUP(A18,규격서!$A$4:$E$121,12,0) -> #REF! | M18: =E18*L18 -> #REF! | R18: 20 | U18: 조류질병대응팀 | V18: 주요전염병검진 | X18: 반려동물항생제내성모니터링 | Y18: 22515070
A19: 14 | B19: Lilif AIV(1-9) Multi-tube RT-PCR kit | C19: 12tests, IPC11009 , Intron | D19: kit | E19: =SUM(N19:T19) -> 7 | F19: =VLOOKUP(A19,규격서!$A$4:$E$121,6,0) -> #REF! | G19: =E19*F19 -> #REF! | H19: =VLOOKUP(A19,규격서!$A$4:$E$121,8,0) -> #REF! | I19: =E19*H19 -> #REF! | J19: =VLOOKUP(A19,규격서!$A$4:$E$121,10,0) -> #REF! | K19: =J19*E19 -> #REF! | L19: =VLOOKUP(A19,규격서!$A$4:$E$121,12,0) -> #REF! | M19: =E19*L19 -> #REF! | R19: 7 | U19: 조류질병대응팀 | V19: 주요전염병검진 | X19: 질병진단팀 | Y19: 22515070
A20: 15 | B20: Powercheck NDV Multiplex Real-time PCR kit | C20: 코젠바이오텍, R0806D, 96tubes | D20: kit | E20: =SUM(N20:T20) -> 23 | F20: =VLOOKUP(A20,규격서!$A$4:$E$121,6,0) -> #REF! | G20: =E20*F20 -> #REF! | H20: =VLOOKUP(A20,규격서!$A$4:$E$121,8,0) -> #REF! | I20: =E20*H20 -> #REF! | J20: =VLOOKUP(A20,규격서!$A$4:$E$121,10,0) -> #REF! | K20: =J20*E20 -> #REF! | L20: =VLOOKUP(A20,규격서!$A$4:$E$121,12,0) -> #REF! | M20: =E20*L20 -> #REF! | R20: 16 | S20: 2 | T20: 5 | U20: 조류질병대응팀 | V20: 가금농가 질병관리 지원 | X20: PED,PRRS 모니터링 | Y20: 10583700
A21: 16 | B21: Powercheck Fowl Adeno/CAV/MD Triplex Real-time PCR kit | C21: 코젠바이오텍, VR0819D, 96tubes | D21: kit | E21: =SUM(N21:T21) -> 12 | F21: =VLOOKUP(A21,규격서!$A$4:$E$121,6,0) -> #REF! | G21: =E21*F21 -> #REF! | H21: =VLOOKUP(A21,규격서!$A$4:$E$121,8,0) -> #REF! | I21: =E21*H21 -> #REF! | J21: =VLOOKUP(A21,규격서!$A$4:$E$121,10,0) -> #REF! | K21: =J21*E21 -> #REF! | L21: =VLOOKUP(A21,규격서!$A$4:$E$121,12,0) -> #REF! | M21: =E21*L21 -> #REF! | R21: 6 | S21: 2 | T21: 4 | U21: 조류질병대응팀 | V21: 가금농가 질병관리 지원 | X21: 질병진단팀 | Y21: 10583700
A22: 17 | B22: Powercheck IBV Real-time PCR kit | C22: 코젠바이오텍, R0811D, 96tubes | D22: kit | E22: =SUM(N22:T22) -> 11 | F22: =VLOOKUP(A22,규격서!$A$4:$E$121,6,0) -> #REF! | G22: =E22*F22 -> #REF! | H22: =VLOOKUP(A22,규격서!$A$4:$E$121,8,0) -> #REF! | I22: =E22*H22 -> #REF! | J22: =VLOOKUP(A22,규격서!$A$4:$E$121,10,0) -> #REF! | K22: =J22*E22 -> #REF! | L22: =VLOOKUP(A22,규격서!$A$4:$E$121,12,0) -> #REF! | M22: =E22*L22 -> #REF! | R22: 5 | S22: 1 | T22: 5 | U22: 조류질병대응팀 | V22: 가금농가 질병관리 지원 | X22: 총합계 | Y22: 1806312970
A23: 18 | B23: Powercheck salmonella Triplex Real-time PCR kit | C23: 코젠바이오텍, VR0152, 48tubes | D23: kit | E23: =SUM(N23:T23) -> 9 | F23: =VLOOKUP(A23,규격서!$A$4:$E$121,6,0) -> #REF! | G23: =E23*F23 -> #REF! | H23: =VLOOKUP(A23,규격서!$A$4:$E$121,8,0) -> #REF! | I23: =E23*H23 -> #REF! | J23: =VLOOKUP(A23,규격서!$A$4:$E$121,10,0) -> #REF! | K23: =J23*E23 -> #REF! | L23: =VLOOKUP(A23,규격서!$A$4:$E$121,12,0) -> #REF! | M23: =E23*L23 -> #REF! | R23: 5 | T23: 4 | U23: 조류질병대응팀 | V23: 가금농가 질병관리 지원
A24: 19 | B24: Powercheck SG/SP Real-time PCR kit | C24: 코젠바이오텍, VR0818D, 96tubes | D24: kit | E24: =SUM(N24:T24) -> 9 | F24: =VLOOKUP(A24,규격서!$A$4:$E$121,6,0) -> #REF! | G24: =E24*F24 -> #REF! | H24: =VLOOKUP(A24,규격서!$A$4:$E$121,8,0) -> #REF! | I24: =E24*H24 -> #REF! | J24: =VLOOKUP(A24,규격서!$A$4:$E$121,10,0) -> #REF! | K24: =J24*E24 -> #REF! | L24: =VLOOKUP(A24,규격서!$A$4:$E$121,12,0) -> #REF! | M24: =E24*L24 -> #REF! | R24: 5 | T24: 4 | U24: 조류질병대응팀 | V24: 가금농가 질병관리 지원
A25: 20 | B25: Powercheck MG/MS Real-time PCR kit | C25: 코젠바이오텍, VR0812D, 96tubes | D25: kit | E25: =SUM(N25:T25) -> 6 | F25: =VLOOKUP(A25,규격서!$A$4:$E$121,6,0) -> #REF! | G25: =E25*F25 -> #REF! | H25: =VLOOKUP(A25,규격서!$A$4:$E$121,8,0) -> #REF! | I25: =E25*H25 -> #REF! | J25: =VLOOKUP(A25,규격서!$A$4:$E$121,10,0) -> #REF! | K25: =J25*E25 -> #REF! | L25: =VLOOKUP(A25,규격서!$A$4:$E$121,12,0) -> #REF! | M25: =E25*L25 -> #REF! | R25: 3 | T25: 3 | U25: 조류질병대응팀 | V25: 가금농가 질병관리 지원
A26: 21 | B26: PED Real-time PCR kit | C26: VR0803D, 96test/box(AB7500fast Real-time PCR에 맞는 제품, 0.1ml tube에 분주된 상태) | D26: box | E26: =SUM(N26:T26) -> 9 | F26: =VLOOKUP(A26,규격서!$A$4:$E$121,6,0) -> #REF! | G26: =E26*F26 -> #REF! | H26: =VLOOKUP(A26,규격서!$A$4:$E$121,8,0) -> #REF! | I26: =E26*H26 -> #REF! | J26: =VLOOKUP(A26,규격서!$A$4:$E$121,10,0) -> #REF! | K26: =J26*E26 -> #REF! | L26: =VLOOKUP(A26,규격서!$A$4:$E$121,12,0) -> #REF! | M26: =E26*L26 -> #REF! | O26: 1 | S26: 4 | T26: 4 | U26: 질병진단팀 | V26: 가축질병 모니터링
A27: 22 | B27: VDx PEDV qRT-PCR kit | C27: 메디안디노스틱, NS-PED-31, 96tests | D27: ea | E27: =SUM(N27:T27) -> 6 | F27: =VLOOKUP(A27,규격서!$A$4:$E$121,6,0) -> #REF! | G27: =E27*F27 -> #REF! | H27: =VLOOKUP(A27,규격서!$A$4:$E$121,8,0) -> #REF! | I27: =E27*H27 -> #REF! | J27: =VLOOKUP(A27,규격서!$A$4:$E$121,10,0) -> #REF! | K27: =J27*E27 -> #REF! | L27: =VLOOKUP(A27,규격서!$A$4:$E$121,12,0) -> #REF! | M27: =E27*L27 -> #REF! | O27: 2 | S27: 2 | T27: 2 | U27: 질병진단팀 | V27: PED,PRRS 모니터링
A28: 23 | B28: VDx PRRSV qRT-PCR kit | C28: 메디안디노스틱, NS-PRR-31, 96tests | D28: ea | E28: =SUM(N28:T28) -> 4 | F28: =VLOOKUP(A28,규격서!$A$4:$E$121,6,0) -> #REF! | G28: =E28*F28 -> #REF! | H28: =VLOOKUP(A28,규격서!$A$4:$E$121,8,0) -> #REF! | I28: =E28*H28 -> #REF! | J28: =VLOOKUP(A28,규격서!$A$4:$E$121,10,0) -> #REF! | K28: =J28*E28 -> #REF! | L28: =VLOOKUP(A28,규격서!$A$4:$E$121,12,0) -> #REF! | M28: =E28*L28 -> #REF! | O28: 2 | S28: 1 | T28: 1 | U28: 질병진단팀 | V28: PED,PRRS 모니터링
A29: 24 | B29: PRRS/PCV2 Real-time PCR kit | C29: VR0821D, 96test/box (AB7500fast Real-time PCR에 맞는 제품, 0.1ml tube에 분주된 상태) | D29: box | E29: =SUM(N29:T29) -> 13 | F29: =VLOOKUP(A29,규격서!$A$4:$E$121,6,0) -> #REF! | G29: =E29*F29 -> #REF! | H29: =VLOOKUP(A29,규격서!$A$4:$E$121,8,0) -> #REF! | I29: =E29*H29 -> #REF! | J29: =VLOOKUP(A29,규격서!$A$4:$E$121,10,0) -> #REF! | K29: =J29*E29 -> #REF! | L29: =VLOOKUP(A29,규격서!$A$4:$E$121,12,0) -> #REF! | M29: =E29*L29 -> #REF! | O29: 2 | S29: 7 | T29: 4 | U29: 질병진단팀 | V29: 가축질병 모니터링
A30: 25 | B30: PRRS(EU/NA) Real-time PCR kit | C30: VR0816D, 96test/box(AB7500fast Real-time PCR에 맞는 제품, 0.2ml tube에 분주된 상태) | D30: box | E30: =SUM(N30:T30) -> 4 | F30: =VLOOKUP(A30,규격서!$A$4:$E$121,6,0) -> #REF! | G30: =E30*F30 -> #REF! | H30: =VLOOKUP(A30,규격서!$A$4:$E$121,8,0) -> #REF! | I30: =E30*H30 -> #REF! | J30: =VLOOKUP(A30,규격서!$A$4:$E$121,10,0) -> #REF! | K30: =J30*E30 -> #REF! | L30: =VLOOKUP(A30,규격서!$A$4:$E$121,12,0) -> #REF! | M30: =E30*L30 -> #REF! | Q30: 1 | S30: 3 | U30: ASF대응팀 | V30: 주요전염병검진
A31: 26 | B31: HiQ Viral DNA/RNA kit v3.0 | C31: P0053R, HiQ V iral DNA/RNA kit, V 3.0 120 Tests | D31: kit | E31: =SUM(N31:T31) -> 110 | F31: =VLOOKUP(A31,규격서!$A$4:$E$121,6,0) -> #REF! | G31: =E31*F31 -> #REF! | H31: =VLOOKUP(A31,규격서!$A$4:$E$121,8,0) -> #REF! | I31: =E31*H31 -> #REF! | J31: =VLOOKUP(A31,규격서!$A$4:$E$121,10,0) -> #REF! | K31: =J31*E31 -> #REF! | L31: =VLOOKUP(A31,규격서!$A$4:$E$121,12,0) -> #REF! | M31: =E31*L31 -> #REF! | Q31: 100 | S31: 10 | U31: ASF대응팀 | V31: 주요전염병검진
A32: =A31 -> 26 | B32: HiQ Viral DNA/RNA kit v3.0 | C32: P0053R, HiQ V iral DNA/RNA kit, V 3.0 120 Tests | D32: kit | E32: =SUM(N32:T32) -> 4 | F32: =VLOOKUP(A32,규격서!$A$4:$E$121,6,0) -> #REF! | G32: =E32*F32 -> #REF! | H32: =VLOOKUP(A32,규격서!$A$4:$E$121,8,0) -> #REF! | I32: =E32*H32 -> #REF! | J32: =VLOOKUP(A32,규격서!$A$4:$E$121,10,0) -> #REF! | K32: =J32*E32 -> #REF! | L32: =VLOOKUP(A32,규격서!$A$4:$E$121,12,0) -> #REF! | M32: =E32*L32 -> #REF! | P32: 4 | U32: 해외전염병팀 | V32: 주요전염병검진
A33: =A32 -> 26 | B33: HiQ Viral DNA/RNA kit v3.0 | C33: P0053R, HiQ V iral DNA/RNA kit, V 3.0 120 Tests | D33: kit | E33: =SUM(N33:T33) -> 35 | F33: =VLOOKUP(A33,규격서!$A$4:$E$121,6,0) -> #REF! | G33: =E33*F33 -> #REF! | H33: =VLOOKUP(A33,규격서!$A$4:$E$121,8,0) -> #REF! | I33: =E33*H33 -> #REF! | J33: =VLOOKUP(A33,규격서!$A$4:$E$121,10,0) -> #REF! | K33: =J33*E33 -> #REF! | L33: =VLOOKUP(A33,규격서!$A$4:$E$121,12,0) -> #REF! | M33: =E33*L33 -> #REF! | R33: 30 | T33: 5 | U33: 조류질병대응팀 | V33: 주요전염병검진
A34: 27 | B34: HiQ Viral DNA/RNA kit v3.0 | C34: P0054R, HiQ V iral DNA/RNA kit, V 3.0 60 Tests | D34: kit | E34: =SUM(N34:T34) -> 85 | F34: =VLOOKUP(A34,규격서!$A$4:$E$121,6,0) -> #REF! | G34: =E34*F34 -> #REF! | H34: =VLOOKUP(A34,규격서!$A$4:$E$121,8,0) -> #REF! | I34: =E34*H34 -> #REF! | J34: =VLOOKUP(A34,규격서!$A$4:$E$121,10,0) -> #REF! | K34: =J34*E34 -> #REF! | L34: =VLOOKUP(A34,규격서!$A$4:$E$121,12,0) -> #REF! | M34: =E34*L34 -> #REF! | Q34: 45 | S34: 40 | U34: ASF대응팀 | V34: 주요전염병검진
A35: =A34 -> 27 | B35: HiQ Viral DNA/RNA kit v3.0 | C35: P0054R, HiQ V iral DNA/RNA kit, V 3.0 60 Tests | D35: kit | E35: =SUM(N35:T35) -> 3 | F35: =VLOOKUP(A35,규격서!$A$4:$E$121,6,0) -> #REF! | G35: =E35*F35 -> #REF! | H35: =VLOOKUP(A35,규격서!$A$4:$E$121,8,0) -> #REF! | I35: =E35*H35 -> #REF! | J35: =VLOOKUP(A35,규격서!$A$4:$E$121,10,0) -> #REF! | K35: =J35*E35 -> #REF! | L35: =VLOOKUP(A35,규격서!$A$4:$E$121,12,0) -> #REF! | M35: =E35*L35 -> #REF! | P35: 3 | U35: 해외전염병팀 | V35: 주요전염병검진
A36: =A35 -> 27 | B36: HiQ Viral DNA/RNA kit v3.0 | C36: P0054R, HiQ V iral DNA/RNA kit, V 3.0 60 Tests | D36: kit | E36: =SUM(N36:T36) -> 20 | F36: =VLOOKUP(A36,규격서!$A$4:$E$121,6,0) -> #REF! | G36: =E36*F36 -> #REF! | H36: =VLOOKUP(A36,규격서!$A$4:$E$121,8,0) -> #REF! | I36: =E36*H36 -> #REF! | J36: =VLOOKUP(A36,규격서!$A$4:$E$121,10,0) -> #REF! | K36: =J36*E36 -> #REF! | L36: =VLOOKUP(A36,규격서!$A$4:$E$121,12,0) -> #REF! | M36: =E36*L36 -> #REF! | R36: 20 | U36: 조류질병대응팀 | V36: 주요전염병검진
A37: 28 | B37: HiQ Viral DNA/RNA kit v3.0 | C37: P0055R, HiQ V iral DNA/RNA kit, V 3.0 120 Tests(1test/ea) | D37: kit | E37: =SUM(N37:T37) -> 35 | F37: =VLOOKUP(A37,규격서!$A$4:$E$121,6,0) -> #REF! | G37: =E37*F37 -> #REF! | H37: =VLOOKUP(A37,규격서!$A$4:$E$121,8,0) -> #REF! | I37: =E37*H37 -> #REF! | J37: =VLOOKUP(A37,규격서!$A$4:$E$121,10,0) -> #REF! | K37: =J37*E37 -> #REF! | L37: =VLOOKUP(A37,규격서!$A$4:$E$121,12,0) -> #REF! | M37: =E37*L37 -> #REF! | Q37: 30 | S37: 5 | U37: ASF대응팀 | V37: 주요전염병검진
A38: =A37 -> 28 | B38: HiQ Viral DNA/RNA kit v3.0 | C38: P0055R, HiQ V iral DNA/RNA kit, V 3.0 120 Tests(1test/ea) | D38: kit | E38: =SUM(N38:T38) -> 1 | F38: =VLOOKUP(A38,규격서!$A$4:$E$121,6,0) -> #REF! | G38: =E38*F38 -> #REF! | H38: =VLOOKUP(A38,규격서!$A$4:$E$121,8,0) -> #REF! | I38: =E38*H38 -> #REF! | J38: =VLOOKUP(A38,규격서!$A$4:$E$121,10,0) -> #REF! | K38: =J38*E38 -> #REF! | L38: =VLOOKUP(A38,규격서!$A$4:$E$121,12,0) -> #REF! | M38: =E38*L38 -> #REF! | P38: 1 | U38: 해외전염병팀 | V38: 주요전염병검진
A39: =A38 -> 28 | B39: HiQ Viral DNA/RNA kit v3.0 | C39: P0055R, HiQ V iral DNA/RNA kit, V 3.0 120 Tests(1test/ea) | D39: kit | E39: =SUM(N39:T39) -> 5 | F39: =VLOOKUP(A39,규격서!$A$4:$E$121,6,0) -> #REF! | G39: =E39*F39 -> #REF! | H39: =VLOOKUP(A39,규격서!$A$4:$E$121,8,0) -> #REF! | I39: =E39*H39 -> #REF! | J39: =VLOOKUP(A39,규격서!$A$4:$E$121,10,0) -> #REF! | K39: =J39*E39 -> #REF! | L39: =VLOOKUP(A39,규격서!$A$4:$E$121,12,0) -> #REF! | M39: =E39*L39 -> #REF! | R39: 5 | U39: 조류질병대응팀 | V39: 주요전염병검진
A40: 29 | B40: Viral DNA/RNA Extraction kit(GD141) | C40: GD141, 96t, 24-strips*4 (Genolution NX-48장비의 소모품) | D40: kit | E40: =SUM(N40:T40) -> 125 | F40: =VLOOKUP(A40,규격서!$A$4:$E$121,6,0) -> #REF! | G40: =E40*F40 -> #REF! | H40: =VLOOKUP(A40,규격서!$A$4:$E$121,8,0) -> #REF! | I40: =E40*H40 -> #REF! | J40: =VLOOKUP(A40,규격서!$A$4:$E$121,10,0) -> #REF! | K40: =J40*E40 -> #REF! | L40: =VLOOKUP(A40,규격서!$A$4:$E$121,12,0) -> #REF! | M40: =E40*L40 -> #REF! | Q40: 110 | T40: 15 | U40: ASF대응팀 | V40: 주요전염병검진
...
