Workbook

Sheet 규격서
A1: 규격서
A2: 번호 | B2: 품명 | C2: 규격 | D2: 단위 | E2: 총수량 | F2: 가축방역 | G2: 질병진단 | H2: 해외전염병 | I2: ASF | J2: 조류질병 | K2: 동부 | L2: 남부
A3: 계 | B3: 118종 | E3: =SUM(E4:E121) -> 1697 | F3: =SUM(F4:F121) -> 311 | G3: =SUM(G4:G121) -> 183 | H3: =SUM(H4:H121) -> 0 | I3: =SUM(I4:I121) -> 490 | J3: =SUM(J4:J121) -> 70 | K3: =SUM(K4:K121) -> 282 | L3: =SUM(L4:L121) -> 361
A4: 1 | B4: ASFV real time PCR kit | C4: PowerChek ASFV Real-time PCR Kit Ver.1.0, VR0855D, 96 reactions, Kogene | D4: kit | E4: =SUM(F4:L4) -> 50 | I4: 50
A5: 2 | B5: ASFV qPCR kit | C5: Median diagnostics, VDx® ASFV qPCR, NS-ASF-31, 96test/kit | D5: kit | E5: =SUM(F5:L5) -> 60 | I5: 60
A6: 3 | B6: Viral DNA/RNA Extraction kit | C6: VN101, 96t, 24-strips*4 (Genolution NX-48장비의 소모품) | D6: kit | E6: =SUM(F6:L6) -> 10 | J6: 5 | K6: 5
A7: 4 | B7: Viral DNA/RNA Extraction kit | C7: VN111, 48t, 8-strips*6 (Genolution NX-48장비의 소모품) | D7: kit | E7: =SUM(F7:L7) -> 8 | G7: 3 | J7: 5
A8: 5 | B8: Viral DNA/RNA Extraction kit | C8: VN121, 48t, 1-strips*48 (Genolution NX-48장비의 소모품) | D8: kit | E8: =SUM(F8:L8) -> 3 | G8: 3
A9: 6 | B9: Viral DNA/RNA Extraction kit | C9: VN101, 96t, 24-strips*4 (Genolution NX-48장비의 소모품) | D9: kit | E9: =SUM(F9:L9) -> 1 | G9: 1
A10: 7 | B10: Viral DNA/RNA Extraction kit | C10: VN111, 48t, 8-strips*6 (Genolution NX-48장비의 소모품) | D10: kit | E10: =SUM(F10:L10) -> 6 | G10: 2 | K10: 2 | L10: 2
A11: 8 | B11: Viral DNA/RNA Extraction kit | C11: VN121, 48t, 1-strips*48 (Genolution NX-48장비의 소모품) | D11: kit | E11: =SUM(F11:L11) -> 3 | G11: 1 | K11: 1 | L11: 1
A12: 9 | B12: AI real time RT-PCR(H5 gene) | C12: AI H5 gene detection. 96test(8strip*12), VR8200(농림축산검역본부 인증) | D12: kit | E12: =SUM(F12:L12) -> 5 | J12: 5
A13: 10 | B13: AI real time RT-PCR(H7 gene) | C13: AI H7 gene detection. 96test(8strip*12), VR8300(농림축산검역본부 인증) | D13: kit | E13: =SUM(F13:L13) -> 5 | J13: 5
A14: 11 | B14: HiQ Viral DNA/RNA kit v3.0 | C14: P0053R, HiQ V iral DNA/RNA kit, V 3.0 96 Tests | D14: kit | E14: =SUM(F14:L14) -> 23 | J14: 5 | K14: 5 | L14: 13
A15: 12 | B15: HiQ Viral DNA/RNA kit v3.0 | C15: P0054R, HiQ V iral DNA/RNA kit, V 3.0 48 Tests | D15: kit | E15: =SUM(F15:L15) -> 307 | I15: 250 | J15: 5 | K15: 50 | L15: 2
A16: 13 | B16: HiQ Viral DNA/RNA kit v3.0 | C16: P0055R, HiQ V iral DNA/RNA kit, V 3.0 96 Tests | D16: kit | E16: =SUM(F16:L16) -> 1 | L16: 1
A17: 14 | B17: Viral DNA/RNA Extraction kit(GD151) | C17: GD151, 48t, 8-strips*6 (Genolution NX-48장비의 소모품) | D17: kit | E17: =SUM(F17:L17) -> 50 | K17: 50
A18: 15 | B18: IB ELISA | C18: IDEXX, 99-09262, 460 test/box | D18: box | E18: =SUM(F18:L18) -> 2 | G18: 1 | L18: 1
A19: 16 | B19: CAV ELISA | C19: IDEXX, 99-08702, 460test/box | D19: box | E19: =SUM(F19:L19) -> 1 | L19: 1
A20: 17 | B20: AE ELISA | C20: IDEXX, 99-09259, 460test/box | D20: box | E20: =SUM(F20:L20) -> 1 | K20: 1
A21: 18 | B21: APV Ab Test | C21: 99-44300, 460t/bx, Idexx | D21: box | E21: =SUM(F21:L21) -> 2 | L21: 2
A22: 19 | B22: SE Ab Test | C22: 99-0002040, 460t/bx, Idexx | D22: box | E22: =SUM(F22:L22) -> 1 | G22: 1
A23: 20 | B23: Tryptic Soy Agar | C23: OXOID, CM0131, 500g | D23: bt | E23: =SUM(F23:L23) -> 1 | G23: 1
A24: 21 | B24: VITEK2 GN ID card | C24: bioMérieux, 21341, 20cards/box(VITEK2의 소모품) | D24: box | E24: =SUM(F24:L24) -> 2 | G24: 2
A25: 22 | B25: VITEK2 GP ID card | C25: bioMérieux, 21342, 20cards/box(VITEK2의 소모품) | D25: box | E25: =SUM(F25:L25) -> 3 | G25: 3
A26: 23 | B26: VITEK2 GP80 AST Card | C26: bioMérieux, 421826, 20cards/box | D26: box | E26: =SUM(F26:L26) -> 4 | G26: 4
A27: 24 | B27: VITEK2 GN97 AST Card | C27: bioMérieux, 422000, 20cards/box | D27: box | E27: =SUM(F27:L27) -> 2 | G27: 2
A28: 25 | B28: Mycoplasma gallisepticum Ab Test Kit (종계장검사용) | C28: [BioChek] CK114, ,MG, 460tests/box | D28: box | E28: =SUM(F28:L28) -> 1 | J28: 1
A29: 26 | B29: 20X PBS | C29: 20X PBS Buffer, PR2007-100-74-1L/(1X working sol. ph7.4),DNase- and RNase-free | D29: bt | E29: =SUM(F29:L29) -> 3 | I29: 3
A30: 27 | B30: EDTA tube | C30: soya, 206204(purple), 6ml, 1000pcs/bx | D30: box | E30: =SUM(F30:L30) -> 3 | G30: 1 | K30: 1 | L30: 1
A31: 28 | B31: Heparin tube | C31: soya #400307, 10ml, 1000ea/box | D31: box | E31: =SUM(F31:L31) -> 10 | F31: 10
A32: 29 | B32: SSGT tube | C32: AMPULAB, REF.108302, clot activator with gel, 1000pcs/box, 10ml | D32: box | E32: =SUM(F32:L32) -> 10 | F32: 5 | L32: 5
A33: 30 | B33: Stock tube | C33: Abtek, cyrogenic storage tubes 80 tubes(20 of each color)/box | D33: box | E33: =SUM(F33:L33) -> 1 | G33: 1
A34: 31 | B34: conical tube(screw, 15ml) | C34: SPL #50015, screw tube, 15ml, 50 in sleeve/500/box | D34: box | E34: =SUM(F34:L34) -> 4 | G34: 4
A35: 32 | B35: Deep well | C35: ssedapan™ 96 well 1.2ml, 10rack/pk, 5pk/cs, SDP-96DWP | D35: box | E35: =SUM(F35:L35) -> 25 | F35: 20 | L35: 5
A36: 33 | B36: Microplate(V-from) | C36: Greiner, 651101 V type,100개/box | D36: box | E36: =SUM(F36:L36) -> 3 | J36: 3
A37: 34 | B37: loop and needle | C37: SPL #90001, 1 ㎕, 500ea/box | D37: box | E37: =SUM(F37:L37) -> 3 | G37: 3
A38: 35 | B38: AnaeroGen | C38: AN0025A, 2.5L, 10ea/pk | D38: pk | E38: =SUM(F38:L38) -> 1 | G38: 1
A39: 36 | B39: 주사기 1cc | C39: 1ml, 4,200개/box, 25G 5/8, 정림 | D39: box | E39: =SUM(F39:L39) -> 3 | F39: 2 | L39: 1
A40: 37 | B40: 주사기 3cc | C40: S-1 3ml, 1800pcs/box, 24G, 19mm, 더블세이프 | D40: box | E40: =SUM(F40:L40) -> 5 | J40: 5
A41: 38 | B41: 주사기(10ml, 18G) | C41: KOVAX-SYRINGE 10ml, 18G, 100개/bx, 12bx/cs | D41: cs | E41: =SUM(F41:L41) -> 3 | G41: 1 | K41: 1 | L41: 1
A42: 39 | B42: 주사기(10ml, 19G) | C42: KOVAX-SYRINGE 10ml, 19G, 100개/bx, 12bx/cs | D42: cs | E42: =SUM(F42:L42) -> 2 | L42: 2
A43: 40 | B43: 클리퍼 | C43: 조아스 클리퍼 JP6010 | D43: ea | E43: =SUM(F43:L43) -> 1 | L43: 1
A44: 41 | B44: 일회용방역복(회색,유피씨) | C44: 방수코팅, 유피씨, 보호(boho), 5601, 회색, (L,XL,2XL 사이즈추후협의), 50ea/bx | D44: box | E44: =SUM(F44:L44) -> 23 | K44: 18 | L44: 5
A45: 42 | B45: 일회용방역복(회색,성진벳) | C45: 보호복, 성진벳, SJ100P3 원피스형, 주머니3개, 회색, (L,XL,2XL 사이즈추후협의) 24벌/bx | D45: box | E45: =SUM(F45:L45) -> 33 | F45: 25 | I45: 3 | K45: 5
A46: 43 | B46: 초동방역세트(level D) | C46: 7종(방역복EN14126, 비닐장화, 부츠커버Nonslip, 방역용KF94마스크, 헤어캡, 반코팅장갑, 니트릴15Mpa,) 30SET/BOX, GigaJ, GG-1002 | D46: box | E46: =SUM(F46:L46) -> 1 | I46: 1
A47: 44 | B47: 일회용 방역조끼 | C47: Sungjinvet , SJ.VS-P2 80ea/box | D47: box | E47: =SUM(F47:L47) -> 5 | F47: 5
A48: 45 | B48: 방역용 방한장화 | C48: 보생, 겨울용 방한장화, 국산, (색상, 사이즈 추후 협의) | D48: ea | E48: =SUM(F48:L48) -> 3 | L48: 3
A49: 46 | B49: 방역용 마스크 | C49: KF94, Aer KF94 피크 V 라이트핏 마스크, 국산, 화이트, size-M/L, 50개/bx (사이즈 추후협의) | D49: box | E49: =SUM(F49:L49) -> 1 | G49: 1
A50: 47 | B50: 차량용 비닐매트 | C50: 차량용, 에어텍스 비닐매트, 공용 450매/roll | D50: roll | E50: =SUM(F50:L50) -> 5 | F50: 5
A51: 48 | B51: 방역용 양말 | C51: 냄새몰 양말, 중목(남녀,화이트,그레이,블랙 골고루), 사이즈 추후협의 | D51: ea | E51: =SUM(F51:L51) -> 30 | L51: 30
A52: 49 | B52: 방역용 핫팩 | C52: 핫앤핫 혹한기형(녹색), 150g*100개/박스 | D52: box | E52: =SUM(F52:L52) -> 7 | F52: 7
A53: 50 | B53: 방역용 핫팩 | C53: 핫앤핫 혹한기형(녹색), 150g*100개/박스 | D53: box | E53: =SUM(F53:L53) -> 3 | L53: 3
A54: 51 | B54: 방역용 핫팩 | C54: 핫앤핫 붙이는형(핑크색) 240개/박스 | D54: box | E54: =SUM(F54:L54) -> 5 | F54: 5
A55: 52 | B55: Micropipet tip(0.1-10) | C55: #0030.078.519, EPPENDORF, PCR clean & sterile, 0.1 – 10 µL M, 40 mm 960T/PK | D55: pk | E55: =SUM(F55:L55) -> 1 | G55: 1
A56: 53 | B56: Micropipet tip(100ul) | C56: ep Dualfilter T.I.P.S.®, 0030078543, PCRclean&sterile, 2–100 µL, 53 mm, 노란색, 내추럴 팁, 960팁(10랙×96팁)/pk | D56: pk | E56: =SUM(F56:L56) -> 25 | L56: 25
A57: 54 | B57: Micropipet tip (10ul) | C57: 10㎕, rainin, 구 GPS-L10, 960pcs/pk, 30389291 | D57: box | E57: =SUM(F57:L57) -> 10 | G57: 10
A58: 55 | B58: Pipet tip(50~1250uL) | C58: #10380(B), sorenson, OneTouch Filter Tip, Sterile, 768/PK, 5 packs/case | D58: box | E58: =SUM(F58:L58) -> 10 | F58: 10
A59: 56 | B59: Micropipette Tip(5ml) | C59: Eppendorf ep Dualfilter TIPS 0.1-5ml, #0030 078 616 sterile and PCR clean 120ea/box | D59: box | E59: =SUM(F59:L59) -> 34 | L59: 34
A60: 57 | B60: Nitrile golves | C60: supreno, su-int 100/pk, 10pk/box, 93-743_사이즈 추후협의 | D60: box | E60: =SUM(F60:L60) -> 30 | F60: 30
A61: 58 | B61: Reservoir | C61: SPL, 23050, 50ml, 5/pk, 100ea/box | D61: box | E61: =SUM(F61:L61) -> 40 | F61: 20 | J61: 5 | L61: 15
A62: 59 | B62: 와이프올 대형 | C62: 유한킴벌리, #41702, L25에어포켓 와이퍼, 대형 300매 | D62: ea | E62: =SUM(F62:L62) -> 10 | F62: 10
A63: 60 | B63: 와이프올 소형 | C63: 유한킴벌리, #41705, L25 Wipers Small, 50매/pk, 24pk/box | D63: box | E63: =SUM(F63:L63) -> 20 | F63: 10 | L63: 10
A64: 61 | B64: 소독용 물티슈 | C64: 벳케어항균티슈, 에탄올 등(방부제 무첨가), 대형(30 x 30cm) 20매/pk | D64: pk | E64: =SUM(F64:L64) -> 10 | G64: 10
A65: 62 | B65: 실험용 물티슈 | C65: 앙블랑 바이올렛, 캡형 74매/pk, 10pk/box | D65: box | E65: =SUM(F65:L65) -> 5 | F65: 5
A66: 63 | B66: 방역용 물티슈 | C66: 앙블랑 세이프 인디핑크휴대용, 20매/pk, 12pk/bx | D66: box | E66: =SUM(F66:L66) -> 5 | F66: 5
A67: 64 | B67: 수세미 | C67: 친환경 옥수수 수세미, 그물망형, 10ea/box | D67: box | E67: =SUM(F67:L67) -> 2 | L67: 2
A68: 65 | B68: 건전지AA | C68: 16ea/pk, 알카라인 | D68: pk | E68: =SUM(F68:L68) -> 2 | L68: 2
A69: 66 | B69: 건전지AAA | C69: 16ea/pk, 알카라인 | D69: pk | E69: =SUM(F69:L69) -> 4 | L69: 4
A70: 67 | B70: 방역용 샴푸 | C70: 르퀼라야 스칼프 포레스트, 810ml*2ea/pk | D70: pk | E70: =SUM(F70:L70) -> 10 | F70: 10
A71: 68 | B71: 방역용 바디워시 | C71: 쿤달, 바디워시, 허니앤마카다미아 퓨어, 1,058ml, 베이비파우더 | D71: ea | E71: =SUM(F71:L71) -> 30 | F71: 10 | K71: 20
A72: 69 | B72: 방역용 세정제(비누) | C72: 살림백서, 소프트 모이스처 비누 플로럴 허브, 100g*10개/cs | D72: cs | E72: =SUM(F72:L72) -> 20 | F72: 20
A73: 70 | B73: 방역용 바디로션 | C73: 뉴트로지나 인텐스 리페어 시카 에멀젼 450ml | D73: ea | E73: =SUM(F73:L73) -> 30 | F73: 10 | K73: 20
A74: 71 | B74: 방역용 자외선차단 로션 | C74: DALBA, VEGAN PINK, 50ml | D74: ea | E74: =SUM(F74:L74) -> 20 | K74: 20
A75: 72 | B75: 실험실 세정제 | C75: Pril, 700ml, 레몬향, 헨켈 | D75: ea | E75: =SUM(F75:L75) -> 10 | L75: 10
A76: 73 | B76: 출장복 섬유유연제 | C76: 다우니. 생화향기 컬렉션 고초농축 섬유유연제 패밀리팩(5종 각 1L구성) | D76: pk | E76: =SUM(F76:L76) -> 20 | F76: 20
A77: 74 | B77: 출장복 세탁세제 | C77: 퍼실 파워젤 딥크린 플러스 드럼용, 2.5L*4ea/pk | D77: pk | E77: =SUM(F77:L77) -> 20 | F77: 20
A78: 75 | B78: 실험실 손세정제 | C78: 아이깨끗해, 490ML | D78: ea | E78: =SUM(F78:L78) -> 25 | L78: 25
A79: 76 | B79: 방역용 세안제 | C79: 센카 퍼펙트 휩 폼 클렌징 120g | D79: ea | E79: =SUM(F79:L79) -> 38 | F79: 18 | K79: 20
A80: 77 | B80: 방역용 세안제 | C80: 센카 퍼펙트 휩 폼 클렌징 120g | D80: ea | E80: =SUM(F80:L80) -> 27 | L80: 27
A81: 78 | B81: 폐기물봉투 | C81: 쓰레기 봉투, 76cm*94cm, 대형, 20ea/pk, 검정 | D81: pk | E81: =SUM(F81:L81) -> 20 | L81: 20
A82: 79 | B82: 실험실 섬유탈취제 | C82: 페브리즈 (상쾌한향 실속형 900ml) | D82: ea | E82: =SUM(F82:L82) -> 10 | F82: 10
A83: 80 | B83: 포셉 | C83: Forcep, STS, Straight, Blunt Tip, L145mm, SL.For7024 | D83: ea | E83: =SUM(F83:L83) -> 30 | I83: 30
A84: 81 | B84: 부검용 가위 | C84: 토리베가위 KS-203 | D84: ea | E84: =SUM(F84:L84) -> 15 | I84: 5 | K84: 5 | L84: 5
A85: 82 | B85: 부검용 가위 | C85: Metzenbaum Scissors 직, 5-089, 14.5cm | D85: ea | E85: =SUM(F85:L85) -> 30 | I85: 30
A86: 83 | B86: 부검도구 보관대 | C86: 스테인레스 사각 밧드-뚜껑포함, 320*200*55, Flat-type Cover and Handle, T09-21-278 | D86: ea | E86: =SUM(F86:L86) -> 10 | I86: 10
A87: 84 | B87: 박스테이프 | C87: TENDO, 텐도 배려(무소음), 박스테이프, 60개/box | D87: box | E87: =SUM(F87:L87) -> 1 | G87: 1
A88: 85 | B88: 가스 점화 라이터 | C88: 0512-571, Gas Lighter, AGM-8801-Ⅱ, L290mm | D88: ea | E88: =SUM(F88:L88) -> 10 | G88: 10
A89: 86 | B89: Ethyl alcoohol | C89: 500E0007/[삼전순약공업(주)]Ethyl alcohol (anhydrous, 99.9%, GR)/4L*4 | D89: set | E89: =SUM(F89:L89) -> 3 | G89: 3
A90: 87 | B90: 0.45% Saline | C90: Mbcell, MB-S0002-1L, 0.45% Saline, 1L/bt | D90: ea | E90: =SUM(F90:L90) -> 2 | G90: 2
A91: 88 | B91: Campygen | C91: CN0025A, 10ea/pk | D91: pk | E91: =SUM(F91:L91) -> 3 | G91: 3
A92: 89 | B92: Latex gloves | C92: Ansell, 69-318, TouchNTuff, latex, 100/pk, 10pk/box (사이즈 추후 협의) | D92: box | E92: =SUM(F92:L92) -> 2 | G92: 2
A93: 90 | B93: Nitrile golves | C93: Ansell, 93-733, XCEED, nitrile, 250/pk, 10pk/box (사이즈 추후 협의) | D93: box | E93: =SUM(F93:L93) -> 5 | G93: 5
A94: 91 | B94: 다회용 와이드 투명 위생마스크 | C94: 재질: PET,프레임 PC/ 사이즈: 270mm*300mm/ 블랙 | D94: ea | E94: =SUM(F94:L94) -> 6 | G94: 6
A95: 92 | B95: 유한락스 욕실청소용 | C95: 욕실용, 스프레이형(거품타입)/ 600ml/ 1BOX 당 10개 | D95: box | E95: =SUM(F95:L95) -> 1 | G95: 1
A96: 93 | B96: 실험용 내화학장갑 M | C96: Ansell, 92-600, 사이즈: M, 색상: 그린, 재질: 니트릴, 100매/pk | D96: pk | E96: =SUM(F96:L96) -> 10 | G96: 10
A97: 94 | B97: 실험용 내화학장갑 L | C97: Ansell, 92-600, 사이즈: L, 색상: 그린, 재질: 니트릴, 100매/pk | D97: pk | E97: =SUM(F97:L97) -> 5 | G97: 5
A98: 95 | B98: 세척솔 | C98: Sizzlestore_430636/반짝이 아크릴병솔/31.5*5.5cm(무게"40g)/아크릴.pp | D98: ea | E98: =SUM(F98:L98) -> 5 | G98: 5
... A105: 102 | B105: Micropipette tip (250ul) | C105: Rainin, 30389287, GPS-UNV-250uL-960A/10, 960tips in 10refills/pk | D105: pk | E105: =SUM(F105:L105) -> 10 | G105: 10
A106: 103 | B106: IBD-XR Ab Test | C106: 99-09261, 460t/bx, Idexx | D106: box | E106: =SUM(F106:L106) -> 1 | K106: 1
...

Sheet 팀별,부기별
A1: 번호 | B1: 품명 | C1: 규격 | D1: 단위 | E1: 수량 | F1: 단가 (세액포함) | G1: 금액 | H1: 단가 (세액포함)2 | I1: 금액3 | J1: 단가 (세액포함)4 | K1: 금액5 | L1: 단가 (세액포함)6 | M1: 금액7 | N1: 가축방역 | O1: 질병진단 | P1: 해외전염병 | Q1: ASF | R1: 조류질병 | S1: 동부 | T1: 남부 | U1: 해당팀 | V1: 예산부기명
A2: 1 | B2: ASFV real time PCR kit | C2: PowerChek ASFV Real-time PCR Kit Ver.1.0, VR0855D, 96 reactions, Kogene | D2: kit | E2: =SUM(N2:T2) -> 205 | F2: =VLOOKUP(A2,규격서!$A$4:$E$121,6,0) -> #REF! | G2: =E2*F2 -> #REF! | H2: =VLOOKUP(A2,규격서!$A$4:$E$121,8,0) -> #REF! | I2: =E2*H2 -> #REF! | J2: =VLOOKUP(A2,규격서!$A$4:$E$121,10,0) -> #REF! | K2: =J2*E2 -> #REF! | L2: =VLOOKUP(A2,규격서!$A$4:$E$121,12,0) -> #REF! | M2: =E2*L2 -> #REF! | Q2: 115 | S2: 55 | T2: 35 | U2: ASF대응팀 | V2: 주요전염병검진 | X2: 행 레이블 | Y2: 합계 : 금액 | AA2: 행 레이블 | AB2: 합계 : 금액
A3: 2 | B3: ASFV qPCR kit | C3: Median diagnostics, VDx® ASFV qPCR, NS-ASF-31, 96test/kit | D3: kit | E3: =SUM(N3:T3) -> 110 | F3: =VLOOKUP(A3,규격서!$A$4:$E$121,6,0) -> #REF! | G3: =E3*F3 -> #REF! | H3: =VLOOKUP(A3,규격서!$A$4:$E$121,8,0) -> #REF! | I3: =E3*H3 -> #REF! | J3: =VLOOKUP(A3,규격서!$A$4:$E$121,10,0) -> #REF! | K3: =J3*E3 -> #REF! | L3: =VLOOKUP(A3,규격서!$A$4:$E$121,12,0) -> #REF! | M3: =E3*L3 -> #REF! | Q3: 110 | U3: ASF대응팀 | V3: 주요전염병검진 | X3: 주요전염병검진 | Y3: 1468805390 | AA3: 가축방역팀 | AB3: 94575470
A4: 3 | B4: Viral DNA/RNA Extraction kit | C4: VN101, 96t, 24-strips*4 (Genolution NX-48장비의 소모품) | D4: kit | E4: =SUM(N4:T4) -> 150 | F4: =VLOOKUP(A4,규격서!$A$4:$E$121,6,0) -> #REF! | G4: =E4*F4 -> #REF! | H4: =VLOOKUP(A4,규격서!$A$4:$E$121,8,0) -> #REF! | I4: =E4*H4 -> #REF! | J4: =VLOOKUP(A4,규격서!$A$4:$E$121,10,0) -> #REF! | K4: =J4*E4 -> #REF! | L4: =VLOOKUP(A4,규격서!$A$4:$E$121,12,0) -> #REF! | M4: =E4*L4 -> #REF! | R4: 40 | S4: 40 | T4: 70 | U4: 조류질병대응팀 | V4: 주요전염병검진 | X4: ASF대응팀 | Y4: 768336510 | AA4: 질병진단팀 | AB4: 118237870
A5: =A4 -> 3 | B5: Viral DNA/RNA Extraction kit | C5: VN101, 96t, 24-strips*4 (Genolution NX-48장비의 소모품) | D5: kit | E5: =SUM(N5:T5) -> 21 | F5: =VLOOKUP(A5,규격서!$A$4:$E$121,6,0) -> #REF! | G5: =E5*F5 -> #REF! | H5: =VLOOKUP(A5,규격서!$A$4:$E$121,8,0) -> #REF! | I5: =E5*H5 -> #REF! | J5: =VLOOKUP(A5,규격서!$A$4:$E$121,10,0) -> #REF! | K5: =J5*E5 -> #REF! | L5: =VLOOKUP(A5,규격서!$A$4:$E$121,12,0) -> #REF! | M5: =E5*L5 -> #REF! | O5: 3 | S5: 11 | T5: 7 | U5: 질병진단팀 | V5: 가축질병 모니터링 | X5: 가축방역팀 | Y5: 93961450 | AA5: 해외전염병팀 | AB5: 59265900
A6: 4 | B6: Viral DNA/RNA Extraction kit | C6: VN111, 48t, 8-strips*6 (Genolution NX-48장비의 소모품) | D6: kit | E6: =SUM(N6:T6) -> 3 | F6: =VLOOKUP(A6,규격서!$A$4:$E$121,6,0) -> #REF! | G6: =E6*F6 -> #REF! | H6: =VLOOKUP(A6,규격서!$A$4:$E$121,8,0) -> #REF! | I6: =E6*H6 -> #REF! | J6: =VLOOKUP(A6,규격서!$A$4:$E$121,10,0) -> #REF! | K6: =J6*E6 -> #REF! | L6: =VLOOKUP(A6,규격서!$A$4:$E$121,12,0) -> #REF! | M6: =E6*L6 -> #REF! | Q6: 3 | U6: ASF대응팀 | V6: 주요전염병검진 | X6: 조류질병대응팀 | Y6: 569715530 | AA6: ASF대응팀 | AB6: 770336110
A7: =A6 -> 4 | B7: Viral DNA/RNA Extraction kit | C7: VN111, 48t, 8-strips*6 (Genolution NX-48장비의 소모품) | D7: kit | E7: =SUM(N7:T7) -> 100 | F7: =VLOOKUP(A7,규격서!$A$4:$E$121,6,0) -> #REF! | G7: =E7*F7 -> #REF! | H7: =VLOOKUP(A7,규격서!$A$4:$E$121,8,0) -> #REF! | I7: =E7*H7 -> #REF! | J7: =VLOOKUP(A7,규격서!$A$4:$E$121,10,0) -> #REF! | K7: =J7*E7 -> #REF! | L7: =VLOOKUP(A7,규격서!$A$4:$E$121,12,0) -> #REF! | M7: =E7*L7 -> #REF! | R7: 20 | S7: 40 | T7: 40 | U7: 조류질병대응팀 | V7: 가금농가 질병관리 지원 | X7: 해외전염병팀 | Y7: 36791900 | AA7: 조류질병대응팀 | AB7: 763897620
A8: 5 | B8: Viral DNA/RNA Extraction kit | C8: VN121, 48t, 1-strips*48 (Genolution NX-48장비의 소모품) | D8: kit | E8: =SUM(N8:T8) -> 3 | F8: =VLOOKUP(A8,규격서!$A$4:$E$121,6,0) -> #REF! | G8: =E8*F8 -> #REF! | H8: =VLOOKUP(A8,규격서!$A$4:$E$121,8,0) -> #REF! | I8: =E8*H8 -> #REF! | J8: =VLOOKUP(A8,규격서!$A$4:$E$121,10,0) -> #REF! | K8: =J8*E8 -> #REF! | L8: =VLOOKUP(A8,규격서!$A$4:$E$121,12,0) -> #REF! | M8: =E8*L8 -> #REF! | Q8: 3 | U8: ASF대응팀 | V8: 주요전염병검진 | X8: 가금농가 질병관리 지원 | Y8: 181321090 | AA8: 총합계 | AB8: 1806312970
A9: =A8 -> 5 | B9: Viral DNA/RNA Extraction kit | C9: VN121, 48t, 1-strips*48 (Genolution NX-48장비의 소모품) | D9: kit | E9: =SUM(N9:T9) -> 25 | F9: =VLOOKUP(A9,규격서!$A$4:$E$121,6,0) -> #REF! | G9: =E9*F9 -> #REF! | H9: =VLOOKUP(A9,규격서!$A$4:$E$121,8,0) -> #REF! | I9: =E9*H9 -> #REF! | J9: =VLOOKUP(A9,규격서!$A$4:$E$121,10,0) -> #REF! | K9: =J9*E9 -> #REF! | L9: =VLOOKUP(A9,규격서!$A$4:$E$121,12,0) -> #REF! | M9: =E9*L9 -> #REF! | R9: 10 | S9: 15 | U9: 조류질병대응팀 | V9: 혈청검사 및 병성감정 | X9: 조류질병대응팀 | Y9: 181321090
A10: 6 | B10: TANBead Nucleic Acid Extraction Kit | C10: TANBead OptiPure Viral Auto Plate(M665A46), 96 Prep/Box, M665A46 | D10: box | E10: =SUM(N10:T10) -> 10 | F10: =VLOOKUP(A10,규격서!$A$4:$E$121,6,0) -> #REF! | G10: =E10*F10 -> #REF! | H10: =VLOOKUP(A10,규격서!$A$4:$E$121,8,0) -> #REF! | I10: =E10*H10 -> #REF! | J10: =VLOOKUP(A10,규격서!$A$4:$E$121,10,0) -> #REF! | K10: =J10*E10 -> #REF! | L10: =VLOOKUP(A10,규격서!$A$4:$E$121,12,0) -> #REF! | M10: =E10*L10 -> #REF! | R10: 10 | U10: 조류질병대응팀 | V10: 주요전염병검진 | X10: 가축질병 모니터링 | Y10: 80334600
A11: 7 | B11: Maxwell RSC TNA kit | C11: AS 1330, 48preps/kit (Maxwell RSC 소모품) | D11: kit | E11: =SUM(N11:T11) -> 10 | F11: =VLOOKUP(A11,규격서!$A$4:$E$121,6,0) -> #REF! | G11: =E11*F11 -> #REF! | H11: =VLOOKUP(A11,규격서!$A$4:$E$121,8,0) -> #REF! | I11: =E11*H11 -> #REF! | J11: =VLOOKUP(A11,규격서!$A$4:$E$121,10,0) -> #REF! | K11: =J11*E11 -> #REF! | L11: =VLOOKUP(A11,규격서!$A$4:$E$121,12,0) -> #REF! | M11: =E11*L11 -> #REF! | Q11: 10 | U11: ASF대응팀 | V11: 주요전염병검진 | X11: 질병진단팀 | Y11: 80334600
A12: =A11 -> 7 | B12: Maxwell RSC TNA kit | C12: AS 1330, 48preps/kit (Maxwell RSC 소모품) | D12: kit | E12: =SUM(N12:T12) -> 3 | F12: =VLOOKUP(A12,규격서!$A$4:$E$121,6,0) -> #REF! | G12: =E12*F12 -> #REF! | H12: =VLOOKUP(A12,규격서!$A$4:$E$121,8,0) -> #REF! | I12: =E12*H12 -> #REF! | J12: =VLOOKUP(A12,규격서!$A$4:$E$121,10,0) -> #REF! | K12: =J12*E12 -> #REF! | L12: =VLOOKUP(A12,규격서!$A$4:$E$121,12,0) -> #REF! | M12: =E12*L12 -> #REF! | P12: 3 | U12: 해외전염병팀 | V12: 혈청검사 및 병성감정 | X12: 혈청검사 및 병성감정 | Y12: 42753120
A13: 8 | B13: AI real time RT-PCR(M gene) | C13: AI M gene detection. 96test(8strip*12), VR8100(농림축산검역본부 인증) | D13: kit | E13: =SUM(N13:T13) -> 163 | F13: =VLOOKUP(A13,규격서!$A$4:$E$121,6,0) -> #REF! | G13: =E13*F13 -> #REF! | H13: =VLOOKUP(A13,규격서!$A$4:$E$121,8,0) -> #REF! | I13: =E13*H13 -> #REF! | J13: =VLOOKUP(A13,규격서!$A$4:$E$121,10,0) -> #REF! | K13: =J13*E13 -> #REF! | L13: =VLOOKUP(A13,규격서!$A$4:$E$121,12,0) -> #REF! | M13: =E13*L13 -> #REF! | R13: 40 | S13: 35 | T13: 88 | U13: 조류질병대응팀 | V13: 주요전염병검진 | X13: ASF대응팀 | Y13: 1999600
A14: 9 | B14: AI real time RT-PCR(H5 gene) | C14: AI H5 gene detection. 96test(8strip*12), VR8200(농림축산검역본부 인증) | D14: kit | E14: =SUM(N14:T14) -> 65 | F14: =VLOOKUP(A14,규격서!$A$4:$E$121,6,0) -> #REF! | G14: =E14*F14 -> #REF! | H14: =VLOOKUP(A14,규격서!$A$4:$E$121,8,0) -> #REF! | I14: =E14*H14 -> #REF! | J14: =VLOOKUP(A14,규격서!$A$4:$E$121,10,0) -> #REF! | K14: =J14*E14 -> #REF! | L14: =VLOOKUP(A14,규격서!$A$4:$E$121,12,0) -> #REF! | M14: =E14*L14 -> #REF! | R14: 20 | S14: 35 | T14: 10 | U14: 조류질병대응팀 | V14: 주요전염병검진 | X14: 가축방역팀 | Y14: 614020
A15: 10 | B15: AI real time RT-PCR(H7 gene) | C15: AI H7 gene detection. 96test(8strip*12), VR8300(농림축산검역본부 인증) | D15: kit | E15: =SUM(N15:T15) -> 8 | F15: =VLOOKUP(A15,규격서!$A$4:$E$121,6,0) -> #REF! | G15: =E15*F15 -> #REF! | H15: =VLOOKUP(A15,규격서!$A$4:$E$121,8,0) -> #REF! | I15: =E15*H15 -> #REF! | J15: =VLOOKUP(A15,규격서!$A$4:$E$121,10,0) -> #REF! | K15: =J15*E15 -> #REF! | L15: =VLOOKUP(A15,규격서!$A$4:$E$121,12,0) -> #REF! | M15: =E15*L15 -> #REF! | R15: 5 | S15: 2 | T15: 1 | U15: 조류질병대응팀 | V15: 주요전염병검진 | X15: 조류질병대응팀 | Y15: 12861000
A16: 11 | B16: AI real time RT-PCR(H9 gene) | C16: AnyQvet AIV H9 qRT-PCR, 96T(8-strip) Cat.No.CS005 | D16: kit | E16: =SUM(N16:T16) -> 5 | F16: =VLOOKUP(A16,규격서!$A$4:$E$121,6,0) -> #REF! | G16: =E16*F16 -> #REF! | H16: =VLOOKUP(A16,규격서!$A$4:$E$121,8,0) -> #REF! | I16: =E16*H16 -> #REF! | J16: =VLOOKUP(A16,규격서!$A$4:$E$121,10,0) -> #REF! | K16: =J16*E16 -> #REF! | L16: =VLOOKUP(A16,규격서!$A$4:$E$121,12,0) -> #REF! | M16: =E16*L16 -> #REF! | R16: 5 | U16: 조류질병대응팀 | V16: 주요전염병검진 | X16: 질병진단팀 | Y16: 4804500
A17: 12 | B17: Opti AIV-Qpcr kit(Mgene) | C17: Opti AIV-Qpcr kit, AVVS-001, 96test/kit | D17: kit | E17: =SUM(N17:T17) -> 90 | F17: =VLOOKUP(A17,규격서!$A$4:$E$121,6,0) -> #REF! | G17: =E17*F17 -> #REF! | H17: =VLOOKUP(A17,규격서!$A$4:$E$121,8,0) -> #REF! | I17: =E17*H17 -> #REF! | J17: =VLOOKUP(A17,규격서!$A$4:$E$121,10,0) -> #REF! | K17: =J17*E17 -> #REF! | L17: =VLOOKUP(A17,규격서!$A$4:$E$121,12,0) -> #REF! | M17: =E17*L17 -> #REF! | R17: 70 | T17: 20 | U17: 조류질병대응팀 | V17: 주요전염병검진 | X17: 해외전염병팀 | Y17: 22474000
A18: 13 | B18: Opti AIV-H5/7/9 Multi-qPCR | C18: Opti AIV-H5/7/9 Multi-qPCR kit, AVVS-008, 96test/kit | D18: kit | E18: =SUM(N18:T18) -> 20 | F18: =VLOOKUP(A18,규격서!$A$4:$E$121,6,0) -> #REF! | G18: =E18*F18 -> #REF! | H18: =VLOOKUP(A18,규격서!$A$4:$E$121,8,0) -> #REF! | I18: =E18*H18 -> #REF! | J18: =VLOOKUP(A18,규격서!$A$4:$E$121,10,0) -> #REF! | K18: =J18*E18 -> #REF! | L18: =VLOOKUP(A18,규격서!$A$4:$E$121,12,0) -> #REF! | M18: =E18*L18 -> #REF! | R18: 20 | U18: 조류질병대응팀 | V18: 주요전염병검진 | X18: 반려동물항생제내성모니터링 | Y18: 22515070
A19: 14 | B19: Lilif AIV(1-9) Multi-tube RT-PCR kit | C19: 12tests, IPC11009 , Intron | D19: kit | E19: =SUM(N19:T19) -> 7 | F19: =VLOOKUP(A19,규격서!$A$4:$E$121,6,0) -> #REF! | G19: =E19*F19 -> #REF! | H19: =VLOOKUP(A19,규격서!$A$4:$E$121,8,0) -> #REF! | I19: =E19*H19 -> #REF! | J19: =VLOOKUP(A19,규격서!$A$4:$E$121,10,0) -> #REF! | K19: =J19*E19 -> #REF! | L19: =VLOOKUP(A19,규격서!$A$4:$E$121,12,0) -> #REF! | M19: =E19*L19 -> #REF! | R19: 7 | U19: 조류질병대응팀 | V19: 주요전염병검진 | X19: 질병진단팀 | Y19: 22515070
A20: 15 | B20: Powercheck NDV Multiplex Real-time PCR kit | C20: 코젠바이오텍, R0806D, 96tubes | D20: kit | E20: =SUM(N20:T20) -> 23 | F20: =VLOOKUP(A20,규격서!$A$4:$E$121,6,0) -> #REF! | G20: =E20*F20 -> #REF! | H20: =VLOOKUP(A20,규격서!$A$4:$E$121,8,0) -> #REF! | I20: =E20*H20 -> #REF! | J20: =VLOOKUP(A20,규격서!$A$4:$E$121,10,0) -> #REF! | K20: =J20*E20 -> #REF! | L20: =VLOOKUP(A20,규격서!$A$4:$E$121,12,0) -> #REF! | M20: =E20*L20 -> #REF! | R20: 16 | S20: 2 | T20: 5 | U20: 조류질병대응팀 | V20: 가금농가 질병관리 지원 | X20: PED,PRRS 모니터링 | Y20: 10583700
A21: 16 | B21: Powercheck Fowl Adeno/CAV/MD Triplex Real-time PCR kit | C21: 코젠바이오텍, VR0819D, 96tubes | D21: kit | E21: =SUM(N21:T21) -> 12 | F21: =VLOOKUP(A21,규격서!$A$4:$E$121,6,0) -> #REF! | G21: =E21*F21 -> #REF! | H21: =VLOOKUP(A21,규격서!$A$4:$E$121,8,0) -> #REF! | I21: =E21*H21 -> #REF! | J21: =VLOOKUP(A21,규격서!$A$4:$E$121,10,0) -> #REF! | K21: =J21*E21 -> #REF! | L21: =VLOOKUP(A21,규격서!$A$4:$E$121,12,0) -> #REF! | M21: =E21*L21 -> #REF! | R21: 6 | S21: 2 | T21: 4 | U21: 조류질병대응팀 | V21: 가금농가 질병관리 지원 | X21: 질병진단팀 | Y21: 10583700
A22: 17 | B22: Powercheck IBV Real-time PCR kit | C22: 코젠바이오텍, R0811D, 96tubes | D22: kit | E22: =SUM(N22:T22) -> 11 | F22: =VLOOKUP(A22,규격서!$A$4:$E$121,6,0) -> #REF! | G22: =E22*F22 -> #REF! | H22: =VLOOKUP(A22,규격서!$A$4:$E$121,8,0) -> #REF! | I22: =E22*H22 -> #REF! | J22: =VLOOKUP(A22,규격서!$A$4:$E$121,10,0) -> #REF! | K22: =J22*E22 -> #REF! | L22: =VLOOKUP(A22,규격서!$A$4:$E$121,12,0) -> #REF! | M22: =E22*L22 -> #REF! | R22: 5 | S22: 1 | T22: 5 | U22: 조류질병대응팀 | V22: 가금농가 질병관리 지원 | X22: 총합계 | Y22: 1806312970
A23: 18 | B23: Powercheck salmonella Triplex Real-time PCR kit | C23: 코젠바이오텍, VR0152, 48tubes | D23: kit | E23: =SUM(N23:T23) -> 9 | F23: =VLOOKUP(A23,규격서!$A$4:$E$121,6,0) -> #REF! | G23: =E23*F23 -> #REF! | H23: =VLOOKUP(A23,규격서!$A$4:$E$121,8,0) -> #REF! | I23: =E23*H23 -> #REF! | J23: =VLOOKUP(A23,규격서!$A$4:$E$121,10,0) -> #REF! | K23: =J23*E23 -> #REF! | L23: =VLOOKUP(A23,규격서!$A$4:$E$121,12,0) -> #REF! | M23: =E23*L23 -> #REF! | R23: 5 | T23: 4 | U23: 조류질병대응팀 | V23: 가금농가 질병관리 지원
A24: 19 | B24: Powercheck SG/SP Real-time PCR kit | C24: 코젠바이오텍, VR0818D, 96tubes | D24: kit | E24: =SUM(N24:T24) -> 9 | F24: =VLOOKUP(A24,규격서!$A$4:$E$121,6,0) -> #REF! | G24: =E24*F24 -> #REF! | H24: =VLOOKUP(A24,규격서!$A$4:$E$121,8,0) -> #REF! | I24: =E24*H24 -> #REF! | J24: =VLOOKUP(A24,규격서!$A$4:$E$121,10,0) -> #REF! | K24: =J24*E24 -> #REF! | L24: =VLOOKUP(A24,규격서!$A$4:$E$121,12,0) -> #REF! | M24: =E24*L24 -> #REF! | R24: 5 | T24: 4 | U24: 조류질병대응팀 | V24: 가금농가 질병관리 지원
A25: 20 | B25: Powercheck MG/MS Real-time PCR kit | C25: 코젠바이오텍, VR0812D, 96tubes | D25: kit | E25: =SUM(N25:T25) -> 6 | F25: =VLOOKUP(A25,규격서!$A$4:$E$121,6,0) -> #REF! | G25: =E25*F25 -> #REF! | H25: =VLOOKUP(A25,규격서!$A$4:$E$121,8,0) -> #REF! | I25: =E25*H25 -> #REF! | J25: =VLOOKUP(A25,규격서!$A$4:$E$121,10,0) -> #REF! | K25: =J25*E25 -> #REF! | L25: =VLOOKUP(A25,규격서!$A$4:$E$121,12,0) -> #REF! | M25: =E25*L25 -> #REF! | R25: 3 | T25: 3 | U25: 조류질병대응팀 | V25: 가금농가 질병관리 지원
A26: 21 | B26: PED Real-time PCR kit | C26: VR0803D, 96test/box(AB7500fast Real-time PCR에 맞는 제품, 0.1ml tube에 분주된 상태) | D26: box | E26: =SUM(N26:T26) -> 9 | F26: =VLOOKUP(A26,규격서!$A$4:$E$121,6,0) -> #REF! | G26: =E26*F26 -> #REF! | H26: =VLOOKUP(A26,규격서!$A$4:$E$121,8,0) -> #REF! | I26: =E26*H26 -> #REF! | J26: =VLOOKUP(A26,규격서!$A$4:$E$121,10,0) -> #REF! | K26: =J26*E26 -> #REF! | L26: =VLOOKUP(A26,규격서!$A$4:$E$121,12,0) -> #REF! | M26: =E26*L26 -> #REF! | O26: 1 | S26: 4 | T26: 4 | U26: 질병진단팀 | V26: 가축질병 모니터링
A27: 22 | B27: VDx PEDV qRT-PCR kit | C27: 메디안디노스틱, NS-PED-31, 96tests | D27: ea | E27: =SUM(N27:T27) -> 6 | F27: =VLOOKUP(A27,규격서!$A$4:$E$121,6,0) -> #REF! | G27: =E27*F27 -> #REF! | H27: =VLOOKUP(A27,규격서!$A$4:$E$121,8,0) -> #REF! | I27: =E27*H27 -> #REF! | J27: =VLOOKUP(A27,규격서!$A$4:$E$121,10,0) -> #REF! | K27: =J27*E27 -> #REF! | L27: =VLOOKUP(A27,규격서!$A$4:$E$121,12,0) -> #REF! | M27: =E27*L27 -> #REF! | O27: 2 | S27: 2 | T27: 2 | U27: 질병진단팀 | V27: PED,PRRS 모니터링
A28: 23 | B28: VDx PRRSV qRT-PCR kit | C28: 메디안디노스틱, NS-PRR-31, 96tests | D28: ea | E28: =SUM(N28:T28) -> 4 | F28: =VLOOKUP(A28,규격서!$A$4:$E$121,6,0) -> #REF! | G28: =E28*F28 -> #REF! | H28: =VLOOKUP(A28,규격서!$A$4:$E$121,8,0) -> #REF! | I28: =E28*H28 -> #REF! | J28: =VLOOKUP(A28,규격서!$A$4:$E$121,10,0) -> #REF! | K28: =J28*E28 -> #REF! | L28: =VLOOKUP(A28,규격서!$A$4:$E$121,12,0) -> #REF! | M28: =E28*L28 -> #REF! | O28: 2 | S28: 1 | T28: 1 | U28: 질병진단팀 | V28: PED,PRRS 모니터링
A29: 24 | B29: PRRS/PCV2 Real-time PCR kit | C29: VR0821D, 96test/box (AB7500fast Real-time PCR에 맞는 제품, 0.1ml tube에 분주된 상태) | D29: box | E29: =SUM(N29:T29) -> 13 | F29: =VLOOKUP(A29,규격서!$A$4:$E$121,6,0) -> #REF! | G29: =E29*F29 -> #REF! | H29: =VLOOKUP(A29,규격서!$A$4:$E$121,8,0) -> #REF! | I29: =E29*H29 -> #REF! | J29: =VLOOKUP(A29,규격서!$A$4:$E$121,10,0) -> #REF! | K29: =J29*E29 -> #REF! | L29: =VLOOKUP(A29,규격서!$A$4:$E$121,12,0) -> #REF! | M29: =E29*L29 -> #REF! | O29: 2 | S29: 7 | T29: 4 | U29: 질병진단팀 | V29: 가축질병 모니터링
A30: 25 | B30: PRRS(EU/NA) Real-time PCR kit | C30: VR0816D, 96test/box(AB7500fast Real-time PCR에 맞는 제품, 0.2ml tube에 분주된 상태) | D30: box | E30: =SUM(N30:T30) -> 4 | F30: =VLOOKUP(A30,규격서!$A$4:$E$121,6,0) -> #REF! | G30: =E30*F30 -> #REF! | H30: =VLOOKUP(A30,규격서!$A$4:$E$121,8,0) -> #REF! | I30: =E30*H30 -> #REF! | J30: =VLOOKUP(A30,규격서!$A$4:$E$121,10,0) -> #REF! | K30: =J30*E30 -> #REF! | L30: =VLOOKUP(A30,규격서!$A$4:$E$121,12,0) -> #REF! | M30: =E30*L30 -> #REF! | Q30: 1 | S30: 3 | U30: ASF대응팀 | V30: 주요전염병검진
A31: 26 | B31: HiQ Viral DNA/RNA kit v3.0 | C31: P0053R, HiQ V iral DNA/RNA kit, V 3.0 120 Tests | D31: kit | E31: =SUM(N31:T31) -> 110 | F31: =VLOOKUP(A31,규격서!$A$4:$E$121,6,0) -> #REF! | G31: =E31*F31 -> #REF! | H31: =VLOOKUP(A31,규격서!$A$4:$E$121,8,0) -> #REF! | I31: =E31*H31 -> #REF! | J31: =VLOOKUP(A31,규격서!$A$4:$E$121,10,0) -> #REF! | K31: =J31*E31 -> #REF! | L31: =VLOOKUP(A31,규격서!$A$4:$E$121,12,0) -> #REF! | M31: =E31*L31 -> #REF! | Q31: 100 | S31: 10 | U31: ASF대응팀 | V31: 주요전염병검진
A32: =A31 -> 26 | B32: HiQ Viral DNA/RNA kit v3.0 | C32: P0053R, HiQ V iral DNA/RNA kit, V 3.0 120 Tests | D32: kit | E32: =SUM(N32:T32) -> 4 | F32: =VLOOKUP(A32,규격서!$A$4:$E$121,6,0) -> #REF! | G32: =E32*F32 -> #REF! | H32: =VLOOKUP(A32,규격서!$A$4:$E$121,8,0) -> #REF! | I32: =E32*H32 -> #REF! | J32: =VLOOKUP(A32,규격서!$A$4:$E$121,10,0) -> #REF! | K32: =J32*E32 -> #REF! | L32: =VLOOKUP(A32,규격서!$A$4:$E$121,12,0) -> #REF! | M32: =E32*L32 -> #REF! | P32: 4 | U32: 해외전염병팀 | V32: 주요전염병검진
A33: =A32 -> 26 | B33: HiQ Viral DNA/RNA kit v3.0 | C33: P0053R, HiQ V iral DNA/RNA kit, V 3.0 120 Tests | D33: kit | E33: =SUM(N33:T33) -> 35 | F33: =VLOOKUP(A33,규격서!$A$4:$E$121,6,0) -> #REF! | G33: =E33*F33 -> #REF! | H33: =VLOOKUP(A33,규격서!$A$4:$E$121,8,0) -> #REF! | I33: =E33*H33 -> #REF! | J33: =VLOOKUP(A33,규격서!$A$4:$E$121,10,0) -> #REF! | K33: =J33*E33 -> #REF! | L33: =VLOOKUP(A33,규격서!$A$4:$E$121,12,0) -> #REF! | M33: =E33*L33 -> #REF! | R33: 30 | T33: 5 | U33: 조류질병대응팀 | V33: 주요전염병검진
A34: 27 | B34: HiQ Viral DNA/RNA kit v3.0 | C34: P0054R, HiQ V iral DNA/RNA kit, V 3.0 60 Tests | D34: kit | E34: =SUM(N34:T34) -> 85 | F34: =VLOOKUP(A34,규격서!$A$4:$E$121,6,0) -> #REF! | G34: =E34*F34 -> #REF! | H34: =VLOOKUP(A34,규격서!$A$4:$E$121,8,0) -> #REF! | I34: =E34*H34 -> #REF! | J34: =VLOOKUP(A34,규격서!$A$4:$E$121,10,0) -> #REF! | K34: =J34*E34 -> #REF! | L34: =VLOOKUP(A34,규격서!$A$4:$E$121,12,0) -> #REF! | M34: =E34*L34 -> #REF! | Q34: 45 | S34: 40 | U34: ASF대응팀 | V34: 주요전염병검진
A35: =A34 -> 27 | B35: HiQ Viral DNA/RNA kit v3.0 | C35: P0054R, HiQ V iral DNA/RNA kit, V 3.0 60 Tests | D35: kit | E35: =SUM(N35:T35) -> 3 | F35: =VLOOKUP(A35,규격서!$A$4:$E$121,6,0) -> #REF! | G35: =E35*F35 -> #REF! | H35: =VLOOKUP(A35,규격서!$A$4:$E$121,8,0) -> #REF! | I35: =E35*H35 -> #REF! | J35: =VLOOKUP(A35,규격서!$A$4:$E$121,10,0) -> #REF! | K35: =J35*E35 -> #REF! | L35: =VLOOKUP(A35,규격서!$A$4:$E$121,12,0) -> #REF! | M35: =E35*L35 -> #REF! | P35: 3 | U35: 해외전염병팀 | V35: 주요전염병검진
A36: =A35 -> 27 | B36: HiQ Viral DNA/RNA kit v3.0 | C36: P0054R, HiQ V iral DNA/RNA kit, V 3.0 60 Tests | D36: kit | E36: =SUM(N36:T36) -> 20 | F36: =VLOOKUP(A36,규격서!$A$4:$E$121,6,0) -> #REF! | G36: =E36*F36 -> #REF! | H36: =VLOOKUP(A36,규격서!$A$4:$E$121,8,0) -> #REF! | I36: =E36*H36 -> #REF! | J36: =VLOOKUP(A36,규격서!$A$4:$E$121,10,0) -> #REF! | K36: =J36*E36 -> #REF! | L36: =VLOOKUP(A36,규격서!$A$4:$E$121,12,0) -> #REF! | M36: =E36*L36 -> #REF! | R36: 20 | U36: 조류질병대응팀 | V36: 주요전염병검진
A37: 28 | B37: HiQ Viral DNA/RNA kit v3.0 | C37: P0055R, HiQ V iral DNA/RNA kit, V 3.0 120 Tests(1test/ea) | D37: kit | E37: =SUM(N37:T37) -> 35 | F37: =VLOOKUP(A37,규격서!$A$4:$E$121,6,0) -> #REF! | G37: =E37*F37 -> #REF! | H37: =VLOOKUP(A37,규격서!$A$4:$E$121,8,0) -> #REF! | I37: =E37*H37 -> #REF! | J37: =VLOOKUP(A37,규격서!$A$4:$E$121,10,0) -> #REF! | K37: =J37*E37 -> #REF! | L37: =VLOOKUP(A37,규격서!$A$4:$E$121,12,0) -> #REF! | M37: =E37*L37 -> #REF! | Q37: 30 | S37: 5 | U37: ASF대응팀 | V37: 주요전염병검진
A38: =A37 -> 28 | B38: HiQ Viral DNA/RNA kit v3.0 | C38: P0055R, HiQ V iral DNA/RNA kit, V 3.0 120 Tests(1test/ea) | D38: kit | E38: =SUM(N38:T38) -> 1 | F38: =VLOOKUP(A38,규격서!$A$4:$E$121,6,0) -> #REF! | G38: =E38*F38 -> #REF! | H38: =VLOOKUP(A38,규격서!$A$4:$E$121,8,0) -> #REF! | I38: =E38*H38 -> #REF! | J38: =VLOOKUP(A38,규격서!$A$4:$E$121,10,0) -> #REF! | K38: =J38*E38 -> #REF! | L38: =VLOOKUP(A38,규격서!$A$4:$E$121,12,0) -> #REF! | M38: =E38*L38 -> #REF! | P38: 1 | U38: 해외전염병팀 | V38: 주요전염병검진
A39: =A38 -> 28 | B39: HiQ Viral DNA/RNA kit v3.0 | C39: P0055R, HiQ V iral DNA/RNA kit, V 3.0 120 Tests(1test/ea) | D39: kit | E39: =SUM(N39:T39) -> 5 | F39: =VLOOKUP(A39,규격서!$A$4:$E$121,6,0) -> #REF! | G39: =E39*F39 -> #REF! | H39: =VLOOKUP(A39,규격서!$A$4:$E$121,8,0) -> #REF! | I39: =E39*H39 -> #REF! | J39: =VLOOKUP(A39,규격서!$A$4:$E$121,10,0) -> #REF! | K39: =J39*E39 -> #REF! | L39: =VLOOKUP(A39,규격서!$A$4:$E$121,12,0) -> #REF! | M39: =E39*L39 -> #REF! | R39: 5 | U39: 조류질병대응팀 | V39: 주요전염병검진
A40: 29 | B40: Viral DNA/RNA Extraction kit(GD141) | C40: GD141, 96t, 24-strips*4 (Genolution NX-48장비의 소모품) | D40: kit | E40: =SUM(N40:T40) -> 125 | F40: =VLOOKUP(A40,규격서!$A$4:$E$121,6,0) -> #REF! | G40: =E40*F40 -> #REF! | H40: =VLOOKUP(A40,규격서!$A$4:$E$121,8,0) -> #REF! | I40: =E40*H40 -> #REF! | J40: =VLOOKUP(A40,규격서!$A$4:$E$121,10,0) -> #REF! | K40: =J40*E40 -> #REF! | L40: =VLOOKUP(A40,규격서!$A$4:$E$121,12,0) -> #REF! | M40: =E40*L40 -> #REF! | Q40: 110 | T40: 15 | U40: ASF대응팀 | V40: 주요전염병검진
A41: 30 | B41: Viral DNA/RNA Extraction kit(GD151) | C41: GD151, 48t, 8-strips*6 (Genolution NX-48장비의 소모품) | D41: kit | E41: =SUM(N41:T41) -> 90 | F41: =VLOOKUP(A41,규격서!$A$4:$E$121,6,0) -> #REF! | G41: =E41*F41 -> #REF! | H41: =VLOOKUP(A41,규격서!$A$4:$E$121,8,0) -> #REF! | I41: =E41*H41 -> #REF! | J41: =VLOOKUP(A41,규격서!$A$4:$E$121,10,0) -> #REF! | K41: =J41*E41 -> #REF! | L41: =VLOOKUP(A41,규격서!$A$4:$E$121,12,0) -> #REF! | M41: =E41*L41 -> #REF! | Q41: 60 | S41: 20 | T41: 10 | U41: ASF대응팀 | V41: 주요전염병검진
A42: 31 | B42: Viral DNA/RNA Extraction kit(GD161) | C42: GD161, 48t, 1-strips*48 (Genolution NX-48장비의 소모품) | D42: kit | E42: =SUM(N42:T42) -> 5 | F42: =VLOOKUP(A42,규격서!$A$4:$E$121,6,0) -> #REF! | G42: =E42*F42 -> #REF! | H42: =VLOOKUP(A42,규격서!$A$4:$E$121,8,0) -> #REF! | I42: =E42*H42 -> #REF! | J42: =VLOOKUP(A42,규격서!$A$4:$E$121,10,0) -> #REF! | K42: =J42*E42 -> #REF! | L42: =VLOOKUP(A42,규격서!$A$4:$E$121,12,0) -> #REF! | M42: =E42*L42 -> #REF! | T42: 5 | U42: ASF대응팀 | V42: 주요전염병검진
A43: 32 | B43: Precellys lysing kit | C43: Tissue homogenizing CK28_2ml, 50Preps/pk | D43: pk | E43: =SUM(N43:T43) -> 5 | F43: =VLOOKUP(A43,규격서!$A$4:$E$121,6,0) -> #REF! | G43: =E43*F43 -> #REF! | H43: =VLOOKUP(A43,규격서!$A$4:$E$121,8,0) -> #REF! | I43: =E43*H43 -> #REF! | J43: =VLOOKUP(A43,규격서!$A$4:$E$121,10,0) -> #REF! | K43: =J43*E43 -> #REF! | L43: =VLOOKUP(A43,규격서!$A$4:$E$121,12,0) -> #REF! | M43: =E43*L43 -> #REF! | S43: 5 | U43: 조류질병대응팀 | V43: 주요전염병검진
A44: 33 | B44: APP ApxⅣ AB ELISA | C44: 480T/box, 99-41189, APP ApxIV 에 대한 항체 검출, xchekplus software 호환 | D44: box | E44: =SUM(N44:T44) -> 6 | F44: =VLOOKUP(A44,규격서!$A$4:$E$121,6,0) -> #REF! | G44: =E44*F44 -> #REF! | H44: =VLOOKUP(A44,규격서!$A$4:$E$121,8,0) -> #REF! | I44: =E44*H44 -> #REF! | J44: =VLOOKUP(A44,규격서!$A$4:$E$121,10,0) -> #REF! | K44: =J44*E44 -> #REF! | L44: =VLOOKUP(A44,규격서!$A$4:$E$121,12,0) -> #REF! | M44: =E44*L44 -> #REF! | O44: 1 | S44: 3 | T44: 2 | U44: 질병진단팀 | V44: 가축질병 모니터링
A45: 34 | B45: IB ELISA | C45: IDEXX, 99-09262, 460 test/box | D45: box | E45: =SUM(N45:T45) -> 12 | F45: =VLOOKUP(A45,규격서!$A$4:$E$121,6,0) -> #REF! | G45: =E45*F45 -> #REF! | H45: =VLOOKUP(A45,규격서!$A$4:$E$121,8,0) -> #REF! | I45: =E45*H45 -> #REF! | J45: =VLOOKUP(A45,규격서!$A$4:$E$121,10,0) -> #REF! | K45: =J45*E45 -> #REF! | L45: =VLOOKUP(A45,규격서!$A$4:$E$121,12,0) -> #REF! | M45: =E45*L45 -> #REF! | R45: 4 | S45: 5 | T45: 3 | U45: 조류질병대응팀 | V45: 가금농가 질병관리 지원
A46: =A45 -> 34 | B46: IB ELISA | C46: IDEXX, 99-09262, 460 test/box | D46: box | E46: =SUM(N46:T46) -> 3 | F46: =VLOOKUP(A46,규격서!$A$4:$E$121,6,0) -> #REF! | G46: =E46*F46 -> #REF! | H46: =VLOOKUP(A46,규격서!$A$4:$E$121,8,0) -> #REF! | I46: =E46*H46 -> #REF! | J46: =VLOOKUP(A46,규격서!$A$4:$E$121,10,0) -> #REF! | K46: =J46*E46 -> #REF! | L46: =VLOOKUP(A46,규격서!$A$4:$E$121,12,0) -> #REF! | M46: =E46*L46 -> #REF! | O46: 1 | S46: 1 | T46: 1 | U46: 질병진단팀 | V46: 혈청검사 및 병성감정
A47: 35 | B47: CAV ELISA | C47: IDEXX, 99-08702, 460test/box | D47: box | E47: =SUM(N47:T47) -> 7 | F47: =VLOOKUP(A47,규격서!$A$4:$E$121,6,0) -> #REF! | G47: =E47*F47 -> #REF! | H47: =VLOOKUP(A47,규격서!$A$4:$E$121,8,0) -> #REF! | I47: =E47*H47 -> #REF! | J47: =VLOOKUP(A47,규격서!$A$4:$E$121,10,0) -> #REF! | K47: =J47*E47 -> #REF! | L47: =VLOOKUP(A47,규격서!$A$4:$E$121,12,0) -> #REF! | M47: =E47*L47 -> #REF! | R47: 2 | S47: 1 | T47: 4 | U47: 조류질병대응팀 | V47: 가금농가 질병관리 지원
A48: 36 | B48: PMA Antibody ELISA | C48: MEDIAN 480T/box, ES-PMA-01 (P.multocidaA항원을 플레이트에 코팅시킨 Indirect ELISA검사제품) | D48: box | E48: =SUM(N48:T48) -> 4 | F48: =VLOOKUP(A48,규격서!$A$4:$E$121,6,0) -> #REF! | G48: =E48*F48 -> #REF! | H48: =VLOOKUP(A48,규격서!$A$4:$E$121,8,0) -> #REF! | I48: =E48*H48 -> #REF! | J48: =VLOOKUP(A48,규격서!$A$4:$E$121,10,0) -> #REF! | K48: =J48*E48 -> #REF! | L48: =VLOOKUP(A48,규격서!$A$4:$E$121,12,0) -> #REF! | M48: =E48*L48 -> #REF! | O48: 1 | S48: 1 | T48: 2 | U48: 질병진단팀 | V48: 가축질병 모니터링
A49: 37 | B49: H.para Antibody ELISA | C49: MEDIAN 480T/box, ES-HPA-01 (H.parasuis항원을 플레이트에 코팅시킨 Indirect ELISA검사제품) | D49: box | E49: =SUM(N49:T49) -> 4 | F49: =VLOOKUP(A49,규격서!$A$4:$E$121,6,0) -> #REF! | G49: =E49*F49 -> #REF! | H49: =VLOOKUP(A49,규격서!$A$4:$E$121,8,0) -> #REF! | I49: =E49*H49 -> #REF! | J49: =VLOOKUP(A49,규격서!$A$4:$E$121,10,0) -> #REF! | K49: =J49*E49 -> #REF! | L49: =VLOOKUP(A49,규격서!$A$4:$E$121,12,0) -> #REF! | M49: =E49*L49 -> #REF! | O49: 1 | S49: 1 | T49: 2 | U49: 질병진단팀 | V49: 가축질병 모니터링
A50: 38 | B50: FMDV Type O Ab b-ELISA | C50: MEDIAN 480T/box, EM-FMD-05 | D50: box | E50: =SUM(N50:T50) -> 4 | F50: =VLOOKUP(A50,규격서!$A$4:$E$121,6,0) -> #REF! | G50: =E50*F50 -> #REF! | H50: =VLOOKUP(A50,규격서!$A$4:$E$121,8,0) -> #REF! | I50: =E50*H50 -> #REF! | J50: =VLOOKUP(A50,규격서!$A$4:$E$121,10,0) -> #REF! | K50: =J50*E50 -> #REF! | L50: =VLOOKUP(A50,규격서!$A$4:$E$121,12,0) -> #REF! | M50: =E50*L50 -> #REF! | O50: 1 | S50: 2 | T50: 1 | U50: 질병진단팀 | V50: 가축질병 모니터링
A51: 39 | B51: ND HI | C51: 대성미생물연구소, 100 test/bt | D51: bt | E51: =SUM(N51:T51) -> 75 | F51: =VLOOKUP(A51,규격서!$A$4:$E$121,6,0) -> #REF! | G51: =E51*F51 -> #REF! | H51: =VLOOKUP(A51,규격서!$A$4:$E$121,8,0) -> #REF! | I51: =E51*H51 -> #REF! | J51: =VLOOKUP(A51,규격서!$A$4:$E$121,10,0) -> #REF! | K51: =J51*E51 -> #REF! | L51: =VLOOKUP(A51,규격서!$A$4:$E$121,12,0) -> #REF! | M51: =E51*L51 -> #REF! | R51: 25 | S51: 20 | T51: 30 | U51: 조류질병대응팀 | V51: 혈청검사 및 병성감정
A52: 40 | B52: 추백리 Plate | C52: 250수/병, 녹십자 | D52: bt | E52: =SUM(N52:T52) -> 34 | F52: =VLOOKUP(A52,규격서!$A$4:$E$121,6,0) -> #REF! | G52: =E52*F52 -> #REF! | H52: =VLOOKUP(A52,규격서!$A$4:$E$121,8,0) -> #REF! | I52: =E52*H52 -> #REF! | J52: =VLOOKUP(A52,규격서!$A$4:$E$121,10,0) -> #REF! | K52: =J52*E52 -> #REF! | L52: =VLOOKUP(A52,규격서!$A$4:$E$121,12,0) -> #REF! | M52: =E52*L52 -> #REF! | R52: 10 | S52: 12 | T52: 12 | U52: 조류질병대응팀 | V52: 주요전염병검진
A53: 41 | B53: MG/MS Ab ELISA kit(가금농가질병관리용) | C53: IDEXX, 99-09298, 460t/box | D53: box | E53: =SUM(N53:T53) -> 5 | F53: =VLOOKUP(A53,규격서!$A$4:$E$121,6,0) -> #REF! | G53: =E53*F53 -> #REF! | H53: =VLOOKUP(A53,규격서!$A$4:$E$121,8,0) -> #REF! | I53: =E53*H53 -> #REF! | J53: =VLOOKUP(A53,규격서!$A$4:$E$121,10,0) -> #REF! | K53: =J53*E53 -> #REF! | L53: =VLOOKUP(A53,규격서!$A$4:$E$121,12,0) -> #REF! | M53: =E53*L53 -> #REF! | R53: 2 | S53: 2 | T53: 1 | U53: 조류질병대응팀 | V53: 가금농가 질병관리 지원
A54: 42 | B54: AE ELISA | C54: IDEXX, 99-09259, 460test/box | D54: box | E54: =SUM(N54:T54) -> 4 | F54: =VLOOKUP(A54,규격서!$A$4:$E$121,6,0) -> #REF! | G54: =E54*F54 -> #REF! | H54: =VLOOKUP(A54,규격서!$A$4:$E$121,8,0) -> #REF! | I54: =E54*H54 -> #REF! | J54: =VLOOKUP(A54,규격서!$A$4:$E$121,10,0) -> #REF! | K54: =J54*E54 -> #REF! | L54: =VLOOKUP(A54,규격서!$A$4:$E$121,12,0) -> #REF! | M54: =E54*L54 -> #REF! | R54: 2 | S54: 1 | T54: 1 | U54: 조류질병대응팀 | V54: 가금농가 질병관리 지원
A55: 43 | B55: IBD Ab Test | C55: 99-09260, 460t/bx, Idexx | D55: box | E55: =SUM(N55:T55) -> 9 | F55: =VLOOKUP(A55,규격서!$A$4:$E$121,6,0) -> #REF! | G55: =E55*F55 -> #REF! | H55: =VLOOKUP(A55,규격서!$A$4:$E$121,8,0) -> #REF! | I55: =E55*H55 -> #REF! | J55: =VLOOKUP(A55,규격서!$A$4:$E$121,10,0) -> #REF! | K55: =J55*E55 -> #REF! | L55: =VLOOKUP(A55,규격서!$A$4:$E$121,12,0) -> #REF! | M55: =E55*L55 -> #REF! | R55: 4 | S55: 4 | T55: 1 | U55: 조류질병대응팀 | V55: 가금농가 질병관리 지원
A56: 44 | B56: APV Ab Test | C56: 99-44300, 460t/bx, Idexx | D56: box | E56: =SUM(N56:T56) -> 7 | F56: =VLOOKUP(A56,규격서!$A$4:$E$121,6,0) -> #REF! | G56: =E56*F56 -> #REF! | H56: =VLOOKUP(A56,규격서!$A$4:$E$121,8,0) -> #REF! | I56: =E56*H56 -> #REF! | J56: =VLOOKUP(A56,규격서!$A$4:$E$121,10,0) -> #REF! | K56: =J56*E56 -> #REF! | L56: =VLOOKUP(A56,규격서!$A$4:$E$121,12,0) -> #REF! | M56: =E56*L56 -> #REF! | R56: 2 | S56: 1 | T56: 4 | U56: 조류질병대응팀 | V56: 가금농가 질병관리 지원
A57: 45 | B57: SE Ab Test | C57: 99-0002040, 460t/bx, Idexx | D57: box | E57: =SUM(N57:T57) -> 4 | F57: =VLOOKUP(A57,규격서!$A$4:$E$121,6,0) -> #REF! | G57: =E57*F57 -> #REF! | H57: =VLOOKUP(A57,규격서!$A$4:$E$121,8,0) -> #REF! | I57: =E57*H57 -> #REF! | J57: =VLOOKUP(A57,규격서!$A$4:$E$121,10,0) -> #REF! | K57: =J57*E57 -> #REF! | L57: =VLOOKUP(A57,규격서!$A$4:$E$121,12,0) -> #REF! | M57: =E57*L57 -> #REF! | R57: 1 | S57: 1 | T57: 2 | U57: 조류질병대응팀 | V57: 가금농가 질병관리 지원
A58: 46 | B58: Salmonella(Group D) Ab Test Kit | C58: [BioChek] CK117, SE, 460tests/box | D58: box | E58: =SUM(N58:T58) -> 5 | F58: =VLOOKUP(A58,규격서!$A$4:$E$121,6,0) -> #REF! | G58: =E58*F58 -> #REF! | H58: =VLOOKUP(A58,규격서!$A$4:$E$121,8,0) -> #REF! | I58: =E58*H58 -> #REF! | J58: =VLOOKUP(A58,규격서!$A$4:$E$121,10,0) -> #REF! | K58: =J58*E58 -> #REF! | L58: =VLOOKUP(A58,규격서!$A$4:$E$121,12,0) -> #REF! | M58: =E58*L58 -> #REF! | R58: 1 | S58: 2 | T58: 2 | U58: 조류질병대응팀 | V58: 가금농가 질병관리 지원
A59: 47 | B59: QIAxcel DNA High Resolution Kit | C59: Qiagen, 929002, (QIAxcel의 소모품) | D59: ea | E59: =SUM(N59:T59) -> 2 | F59: =VLOOKUP(A59,규격서!$A$4:$E$121,6,0) -> #REF! | G59: =E59*F59 -> #REF! | H59: =VLOOKUP(A59,규격서!$A$4:$E$121,8,0) -> #REF! | I59: =E59*H59 -> #REF! | J59: =VLOOKUP(A59,규격서!$A$4:$E$121,10,0) -> #REF! | K59: =J59*E59 -> #REF! | L59: =VLOOKUP(A59,규격서!$A$4:$E$121,12,0) -> #REF! | M59: =E59*L59 -> #REF! | R59: 2 | U59: 조류질병대응팀 | V59: 주요전염병검진
A60: 48 | B60: QX Alignment Marker | C60: Qiagen, 929522, 15bp ~3 kb(1.5 ml) (QIAxcel의 소모품) | D60: ea | E60: =SUM(N60:T60) -> 2 | F60: =VLOOKUP(A60,규격서!$A$4:$E$121,6,0) -> #REF! | G60: =E60*F60 -> #REF! | H60: =VLOOKUP(A60,규격서!$A$4:$E$121,8,0) -> #REF! | I60: =E60*H60 -> #REF! | J60: =VLOOKUP(A60,규격서!$A$4:$E$121,10,0) -> #REF! | K60: =J60*E60 -> #REF! | L60: =VLOOKUP(A60,규격서!$A$4:$E$121,12,0) -> #REF! | M60: =E60*L60 -> #REF! | R60: 2 | U60: 조류질병대응팀 | V60: 주요전염병검진
A61: =A60 -> 48 | B61: QX Alignment Marker | C61: Qiagen, 929522, 15bp ~3 kb(1.5 ml) (QIAxcel의 소모품) | D61: ea | E61: =SUM(N61:T61) -> 1 | F61: =VLOOKUP(A61,규격서!$A$4:$E$121,6,0) -> #REF! | G61: =E61*F61 -> #REF! | H61: =VLOOKUP(A61,규격서!$A$4:$E$121,8,0) -> #REF! | I61: =E61*H61 -> #REF! | J61: =VLOOKUP(A61,규격서!$A$4:$E$121,10,0) -> #REF! | K61: =J61*E61 -> #REF! | L61: =VLOOKUP(A61,규격서!$A$4:$E$121,12,0) -> #REF! | M61: =E61*L61 -> #REF! | S61: 1 | U61: 질병진단팀 | V61: 혈청검사 및 병성감정
A62: 49 | B62: QX DNA Size Marker | C62: Qiagen, 929559, 100bp ~ 2.5kb(50 μl) (QIAxcel의 소모품) | D62: ea | E62: =SUM(N62:T62) -> 2 | F62: =VLOOKUP(A62,규격서!$A$4:$E$121,6,0) -> #REF! | G62: =E62*F62 -> #REF! | H62: =VLOOKUP(A62,규격서!$A$4:$E$121,8,0) -> #REF! | I62: =E62*H62 -> #REF! | J62: =VLOOKUP(A62,규격서!$A$4:$E$121,10,0) -> #REF! | K62: =J62*E62 -> #REF! | L62: =VLOOKUP(A62,규격서!$A$4:$E$121,12,0) -> #REF! | M62: =E62*L62 -> #REF! | R62: 2 | U62: 조류질병대응팀 | V62: 주요전염병검진
A63: =A62 -> 49 | B63: QX DNA Size Marker | C63: Qiagen, 929559, 100bp ~ 2.5kb(50 μl) (QIAxcel의 소모품) | D63: ea | E63: =SUM(N63:T63) -> 1 | F63: =VLOOKUP(A63,규격서!$A$4:$E$121,6,0) -> #REF! | G63: =E63*F63 -> #REF! | H63: =VLOOKUP(A63,규격서!$A$4:$E$121,8,0) -> #REF! | I63: =E63*H63 -> #REF! | J63: =VLOOKUP(A63,규격서!$A$4:$E$121,10,0) -> #REF! | K63: =J63*E63 -> #REF! | L63: =VLOOKUP(A63,규격서!$A$4:$E$121,12,0) -> #REF! | M63: =E63*L63 -> #REF! | S63: 1 | U63: 질병진단팀 | V63: 혈청검사 및 병성감정
A64: 50 | B64: Region of Interest (ROI) and Background Plates, 96-well | C64: 4432364, 2 x 96 well plates | D64: kit | E64: =SUM(N64:T64) -> 1 | F64: =VLOOKUP(A64,규격서!$A$4:$E$121,6,0) -> #REF! | G64: =E64*F64 -> #REF! | H64: =VLOOKUP(A64,규격서!$A$4:$E$121,8,0) -> #REF! | I64: =E64*H64 -> #REF! | J64: =VLOOKUP(A64,규격서!$A$4:$E$121,10,0) -> #REF! | K64: =J64*E64 -> #REF! | L64: =VLOOKUP(A64,규격서!$A$4:$E$121,12,0) -> #REF! | M64: =E64*L64 -> #REF! | R64: 1 | U64: 조류질병대응팀 | V64: 주요전염병검진
A65: 51 | B65: QuantStudio™ 3/5 Spectral Calibration Plate 1 (FAM™, VIC™, ROX™, SYBR™ dyes), 96-well, 0.2 mL | C65: A26331 | D65: kit | E65: =SUM(N65:T65) -> 1 | F65: =VLOOKUP(A65,규격서!$A$4:$E$121,6,0) -> #REF! | G65: =E65*F65 -> #REF! | H65: =VLOOKUP(A65,규격서!$A$4:$E$121,8,0) -> #REF! | I65: =E65*H65 -> #REF! | J65: =VLOOKUP(A65,규격서!$A$4:$E$121,10,0) -> #REF! | K65: =J65*E65 -> #REF! | L65: =VLOOKUP(A65,규격서!$A$4:$E$121,12,0) -> #REF! | M65: =E65*L65 -> #REF! | R65: 1 | U65: 조류질병대응팀 | V65: 주요전염병검진
A66: 52 | B66: QuantStudio™ 3/5 Spectral Calibration Plate 2 (ABY™, JUN™, MUSTANG PURPLE™ dyes), 96-well, 0.2 mL | C66: A26332 | D66: kit | E66: =SUM(N66:T66) -> 1 | F66: =VLOOKUP(A66,규격서!$A$4:$E$121,6,0) -> #REF! | G66: =E66*F66 -> #REF! | H66: =VLOOKUP(A66,규격서!$A$4:$E$121,8,0) -> #REF! | I66: =E66*H66 -> #REF! | J66: =VLOOKUP(A66,규격서!$A$4:$E$121,10,0) -> #REF! | K66: =J66*E66 -> #REF! | L66: =VLOOKUP(A66,규격서!$A$4:$E$121,12,0) -> #REF! | M66: =E66*L66 -> #REF! | R66: 1 | U66: 조류질병대응팀 | V66: 주요전염병검진
A67: 53 | B67: QuantStudio™ 3/5 Spectral Calibration Plate 3 (TAMRA™, NED™, Cy™5 dyes), 96-well, 0.2 mL | C67: A26333 | D67: kit | E67: =SUM(N67:T67) -> 1 | F67: =VLOOKUP(A67,규격서!$A$4:$E$121,6,0) -> #REF! | G67: =E67*F67 -> #REF! | H67: =VLOOKUP(A67,규격서!$A$4:$E$121,8,0) -> #REF! | I67: =E67*H67 -> #REF! | J67: =VLOOKUP(A67,규격서!$A$4:$E$121,10,0) -> #REF! | K67: =J67*E67 -> #REF! | L67: =VLOOKUP(A67,규격서!$A$4:$E$121,12,0) -> #REF! | M67: =E67*L67 -> #REF! | R67: 1 | U67: 조류질병대응팀 | V67: 주요전염병검진
A68: 54 | B68: PowerCleanser™ DNA Remover | C68: CL0001, 500ml, kogene | D68: bt | E68: =SUM(N68:T68) -> 3 | F68: =VLOOKUP(A68,규격서!$A$4:$E$121,6,0) -> #REF! | G68: =E68*F68 -> #REF! | H68: =VLOOKUP(A68,규격서!$A$4:$E$121,8,0) -> #REF! | I68: =E68*H68 -> #REF! | J68: =VLOOKUP(A68,규격서!$A$4:$E$121,10,0) -> #REF! | K68: =J68*E68 -> #REF! | L68: =VLOOKUP(A68,규격서!$A$4:$E$121,12,0) -> #REF! | M68: =E68*L68 -> #REF! | R68: 3 | U68: 조류질병대응팀 | V68: 주요전염병검진
A69: 55 | B69: Alsever’s Solution | C69: A3551-500ML, Sterile-filtered, 500ml/bt | D69: bt | E69: =SUM(N69:T69) -> 7 | F69: =VLOOKUP(A69,규격서!$A$4:$E$121,6,0) -> #REF! | G69: =E69*F69 -> #REF! | H69: =VLOOKUP(A69,규격서!$A$4:$E$121,8,0) -> #REF! | I69: =E69*H69 -> #REF! | J69: =VLOOKUP(A69,규격서!$A$4:$E$121,10,0) -> #REF! | K69: =J69*E69 -> #REF! | L69: =VLOOKUP(A69,규격서!$A$4:$E$121,12,0) -> #REF! | M69: =E69*L69 -> #REF! | R69: 3 | S69: 1 | T69: 3 | U69: 조류질병대응팀 | V69: 가금농가 질병관리 지원
A70: 56 | B70: nuclease free water | C70: promega, MC1191, 25mL | D70: bt | E70: =SUM(N70:T70) -> 7 | F70: =VLOOKUP(A70,규격서!$A$4:$E$121,6,0) -> #REF! | G70: =E70*F70 -> #REF! | H70: =VLOOKUP(A70,규격서!$A$4:$E$121,8,0) -> #REF! | I70: =E70*H70 -> #REF! | J70: =VLOOKUP(A70,규격서!$A$4:$E$121,10,0) -> #REF! | K70: =J70*E70 -> #REF! | L70: =VLOOKUP(A70,규격서!$A$4:$E$121,12,0) -> #REF! | M70: =E70*L70 -> #REF! | R70: 5 | T70: 2 | U70: 조류질병대응팀 | V70: 주요전염병검진
A71: 57 | B71: RDE | C71: seiken 성원이화학, cat 370013, 20ml*5/box | D71: box | E71: =SUM(N71:T71) -> 1 | F71: =VLOOKUP(A71,규격서!$A$4:$E$121,6,0) -> #REF! | G71: =E71*F71 -> #REF! | H71: =VLOOKUP(A71,규격서!$A$4:$E$121,8,0) -> #REF! | I71: =E71*H71 -> #REF! | J71: =VLOOKUP(A71,규격서!$A$4:$E$121,10,0) -> #REF! | K71: =J71*E71 -> #REF! | L71: =VLOOKUP(A71,규격서!$A$4:$E$121,12,0) -> #REF! | M71: =E71*L71 -> #REF! | R71: 1 | U71: 조류질병대응팀 | V71: 주요전염병검진
A72: 58 | B72: 기니픽 혈구 | C72: Innovative Research, IGPRBC10ML, Guinea Pig Red Blood Cells 10ml | D72: ea | E72: =SUM(N72:T72) -> 2 | F72: =VLOOKUP(A72,규격서!$A$4:$E$121,6,0) -> #REF! | G72: =E72*F72 -> #REF! | H72: =VLOOKUP(A72,규격서!$A$4:$E$121,8,0) -> #REF! | I72: =E72*H72 -> #REF! | J72: =VLOOKUP(A72,규격서!$A$4:$E$121,10,0) -> #REF! | K72: =J72*E72 -> #REF! | L72: =VLOOKUP(A72,규격서!$A$4:$E$121,12,0) -> #REF! | M72: =E72*L72 -> #REF! | S72: 2 | U72: ASF대응팀 | V72: 주요전염병검진
A73: 59 | B73: Blood Agar | C73: Asan 50ea/box | D73: box | E73: =SUM(N73:T73) -> 3 | F73: =VLOOKUP(A73,규격서!$A$4:$E$121,6,0) -> #REF! | G73: =E73*F73 -> #REF! | H73: =VLOOKUP(A73,규격서!$A$4:$E$121,8,0) -> #REF! | I73: =E73*H73 -> #REF! | J73: =VLOOKUP(A73,규격서!$A$4:$E$121,10,0) -> #REF! | K73: =J73*E73 -> #REF! | L73: =VLOOKUP(A73,규격서!$A$4:$E$121,12,0) -> #REF! | M73: =E73*L73 -> #REF! | O73: 3 | U73: 질병진단팀 | V73: 반려동물항생제내성모니터링
A74: 60 | B74: Tryptic Soy Agar | C74: OXOID, CM0131, 500g | D74: bt | E74: =SUM(N74:T74) -> 2 | F74: =VLOOKUP(A74,규격서!$A$4:$E$121,6,0) -> #REF! | G74: =E74*F74 -> #REF! | H74: =VLOOKUP(A74,규격서!$A$4:$E$121,8,0) -> #REF! | I74: =E74*H74 -> #REF! | J74: =VLOOKUP(A74,규격서!$A$4:$E$121,10,0) -> #REF! | K74: =J74*E74 -> #REF! | L74: =VLOOKUP(A74,규격서!$A$4:$E$121,12,0) -> #REF! | M74: =E74*L74 -> #REF! | R74: 1 | T74: 1 | U74: 조류질병대응팀 | V74: 가금농가 질병관리 지원
A75: 61 | B75: CHROMagar™ Pasteurella | C75: CHROMagar, 5000ml/bt PR012 | D75: bt | E75: =SUM(N75:T75) -> 1 | F75: =VLOOKUP(A75,규격서!$A$4:$E$121,6,0) -> #REF! | G75: =E75*F75 -> #REF! | H75: =VLOOKUP(A75,규격서!$A$4:$E$121,8,0) -> #REF! | I75: =E75*H75 -> #REF! | J75: =VLOOKUP(A75,규격서!$A$4:$E$121,10,0) -> #REF! | K75: =J75*E75 -> #REF! | L75: =VLOOKUP(A75,규격서!$A$4:$E$121,12,0) -> #REF! | M75: =E75*L75 -> #REF! | O75: 1 | U75: 질병진단팀 | V75: 반려동물항생제내성모니터링
A76: 62 | B76: CHROMagar™ Campylobacter | C76: CHROMagar, 5000ml/bt CP572 | D76: bt | E76: =SUM(N76:T76) -> 1 | F76: =VLOOKUP(A76,규격서!$A$4:$E$121,6,0) -> #REF! | G76: =E76*F76 -> #REF! | H76: =VLOOKUP(A76,규격서!$A$4:$E$121,8,0) -> #REF! | I76: =E76*H76 -> #REF! | J76: =VLOOKUP(A76,규격서!$A$4:$E$121,10,0) -> #REF! | K76: =J76*E76 -> #REF! | L76: =VLOOKUP(A76,규격서!$A$4:$E$121,12,0) -> #REF! | M76: =E76*L76 -> #REF! | O76: 1 | U76: 질병진단팀 | V76: 반려동물항생제내성모니터링
A77: 63 | B77: CHROMagar™ Enterobacteria | C77: CHROMagar, 5000ml/bt EB042 | D77: bt | E77: =SUM(N77:T77) -> 1 | F77: =VLOOKUP(A77,규격서!$A$4:$E$121,6,0) -> #REF! | G77: =E77*F77 -> #REF! | H77: =VLOOKUP(A77,규격서!$A$4:$E$121,8,0) -> #REF! | I77: =E77*H77 -> #REF! | J77: =VLOOKUP(A77,규격서!$A$4:$E$121,10,0) -> #REF! | K77: =J77*E77 -> #REF! | L77: =VLOOKUP(A77,규격서!$A$4:$E$121,12,0) -> #REF! | M77: =E77*L77 -> #REF! | O77: 1 | U77: 질병진단팀 | V77: 반려동물항생제내성모니터링
A78: 64 | B78: CHROMagar™ C.difficile | C78: CHROMagar, 5000ml/bt CD122 | D78: bt | E78: =SUM(N78:T78) -> 1 | F78: =VLOOKUP(A78,규격서!$A$4:$E$121,6,0) -> #REF! | G78: =E78*F78 -> #REF! | H78: =VLOOKUP(A78,규격서!$A$4:$E$121,8,0) -> #REF! | I78: =E78*H78 -> #REF! | J78: =VLOOKUP(A78,규격서!$A$4:$E$121,10,0) -> #REF! | K78: =J78*E78 -> #REF! | L78: =VLOOKUP(A78,규격서!$A$4:$E$121,12,0) -> #REF! | M78: =E78*L78 -> #REF! | O78: 1 | U78: 질병진단팀 | V78: 반려동물항생제내성모니터링
A79: 65 | B79: CHROMagar™ C.perfringens | C79: CHROMagar, 5000ml/bt PF652 | D79: bt | E79: =SUM(N79:T79) -> 2 | F79: =VLOOKUP(A79,규격서!$A$4:$E$121,6,0) -> #REF! | G79: =E79*F79 -> #REF! | H79: =VLOOKUP(A79,규격서!$A$4:$E$121,8,0) -> #REF! | I79: =E79*H79 -> #REF! | J79: =VLOOKUP(A79,규격서!$A$4:$E$121,10,0) -> #REF! | K79: =J79*E79 -> #REF! | L79: =VLOOKUP(A79,규격서!$A$4:$E$121,12,0) -> #REF! | M79: =E79*L79 -> #REF! | O79: 2 | U79: 질병진단팀 | V79: 반려동물항생제내성모니터링
A80: 66 | B80: CHROMagar™ Staphylococcus | C80: CHROMagar, 5000ml/bt CQ382 | D80: bt | E80: =SUM(N80:T80) -> 2 | F80: =VLOOKUP(A80,규격서!$A$4:$E$121,6,0) -> #REF! | G80: =E80*F80 -> #REF! | H80: =VLOOKUP(A80,규격서!$A$4:$E$121,8,0) -> #REF! | I80: =E80*H80 -> #REF! | J80: =VLOOKUP(A80,규격서!$A$4:$E$121,10,0) -> #REF! | K80: =J80*E80 -> #REF! | L80: =VLOOKUP(A80,규격서!$A$4:$E$121,12,0) -> #REF! | M80: =E80*L80 -> #REF! | O80: 2 | U80: 질병진단팀 | V80: 반려동물항생제내성모니터링
A81: 67 | B81: CHROMagar™ Streptococcus | C81: CHROMagar, 5000ml/bt CQ392 | D81: bt | E81: =SUM(N81:T81) -> 1 | F81: =VLOOKUP(A81,규격서!$A$4:$E$121,6,0) -> #REF! | G81: =E81*F81 -> #REF! | H81: =VLOOKUP(A81,규격서!$A$4:$E$121,8,0) -> #REF! | I81: =E81*H81 -> #REF! | J81: =VLOOKUP(A81,규격서!$A$4:$E$121,10,0) -> #REF! | K81: =J81*E81 -> #REF! | L81: =VLOOKUP(A81,규격서!$A$4:$E$121,12,0) -> #REF! | M81: =E81*L81 -> #REF! | O81: 1 | U81: 질병진단팀 | V81: 반려동물항생제내성모니터링
A82: 68 | B82: CHROMagar™ Pseudomonas | C82: CHROMagar, 5000ml/bt PS832 | D82: bt | E82: =SUM(N82:T82) -> 1 | F82: =VLOOKUP(A82,규격서!$A$4:$E$121,6,0) -> #REF! | G82: =E82*F82 -> #REF! | H82: =VLOOKUP(A82,규격서!$A$4:$E$121,8,0) -> #REF! | I82: =E82*H82 -> #REF! | J82: =VLOOKUP(A82,규격서!$A$4:$E$121,10,0) -> #REF! | K82: =J82*E82 -> #REF! | L82: =VLOOKUP(A82,규격서!$A$4:$E$121,12,0) -> #REF! | M82: =E82*L82 -> #REF! | O82: 1 | U82: 질병진단팀 | V82: 반려동물항생제내성모니터링
A83: 69 | B83: Bottle Charcoal Agar | C83: BD Difco™, 500g/bt, BD 289410 | D83: bt | E83: =SUM(N83:T83) -> 1 | F83: =VLOOKUP(A83,규격서!$A$4:$E$121,6,0) -> #REF! | G83: =E83*F83 -> #REF! | H83: =VLOOKUP(A83,규격서!$A$4:$E$121,8,0) -> #REF! | I83: =E83*H83 -> #REF! | J83: =VLOOKUP(A83,규격서!$A$4:$E$121,10,0) -> #REF! | K83: =J83*E83 -> #REF! | L83: =VLOOKUP(A83,규격서!$A$4:$E$121,12,0) -> #REF! | M83: =E83*L83 -> #REF! | O83: 1 | U83: 질병진단팀 | V83: 반려동물항생제내성모니터링
A84: 70 | B84: mEA Agar | C84: Oxoid, Slanetz&Bartley medium, CM0377 , 500g/bt | D84: bt | E84: =SUM(N84:T84) -> 2 | F84: =VLOOKUP(A84,규격서!$A$4:$E$121,6,0) -> #REF! | G84: =E84*F84 -> #REF! | H84: =VLOOKUP(A84,규격서!$A$4:$E$121,8,0) -> #REF! | I84: =E84*H84 -> #REF! | J84: =VLOOKUP(A84,규격서!$A$4:$E$121,10,0) -> #REF! | K84: =J84*E84 -> #REF! | L84: =VLOOKUP(A84,규격서!$A$4:$E$121,12,0) -> #REF! | M84: =E84*L84 -> #REF! | O84: 2 | U84: 질병진단팀 | V84: 반려동물항생제내성모니터링
A85: 71 | B85: SALMONELLA AGAR | C85: Brilliance Salmonella Agar / oxoid / CM1092 / 500g | D85: bt | E85: =SUM(N85:T85) -> 3 | F85: =VLOOKUP(A85,규격서!$A$4:$E$121,6,0) -> #REF! | G85: =E85*F85 -> #REF! | H85: =VLOOKUP(A85,규격서!$A$4:$E$121,8,0) -> #REF! | I85: =E85*H85 -> #REF! | J85: =VLOOKUP(A85,규격서!$A$4:$E$121,10,0) -> #REF! | K85: =J85*E85 -> #REF! | L85: =VLOOKUP(A85,규격서!$A$4:$E$121,12,0) -> #REF! | M85: =E85*L85 -> #REF! | R85: 2 | T85: 1 | U85: 조류질병대응팀 | V85: 가금농가 질병관리 지원
A86: 72 | B86: MacCONKEY AGAR | C86: [oxoid] MacCONKEY 500g / CM0007 | D86: bt | E86: =SUM(N86:T86) -> 5 | F86: =VLOOKUP(A86,규격서!$A$4:$E$121,6,0) -> #REF! | G86: =E86*F86 -> #REF! | H86: =VLOOKUP(A86,규격서!$A$4:$E$121,8,0) -> #REF! | I86: =E86*H86 -> #REF! | J86: =VLOOKUP(A86,규격서!$A$4:$E$121,10,0) -> #REF! | K86: =J86*E86 -> #REF! | L86: =VLOOKUP(A86,규격서!$A$4:$E$121,12,0) -> #REF! | M86: =E86*L86 -> #REF! | R86: 2 | T86: 3 | U86: 조류질병대응팀 | V86: 가금농가 질병관리 지원
A87: 73 | B87: X.L.D. MEDIUM | C87: [oxoid] X.L.D. MEDIUM 500g / CM0469 | D87: bt | E87: =SUM(N87:T87) -> 5 | F87: =VLOOKUP(A87,규격서!$A$4:$E$121,6,0) -> #REF! | G87: =E87*F87 -> #REF! | H87: =VLOOKUP(A87,규격서!$A$4:$E$121,8,0) -> #REF! | I87: =E87*H87 -> #REF! | J87: =VLOOKUP(A87,규격서!$A$4:$E$121,10,0) -> #REF! | K87: =J87*E87 -> #REF! | L87: =VLOOKUP(A87,규격서!$A$4:$E$121,12,0) -> #REF! | M87: =E87*L87 -> #REF! | R87: 2 | T87: 3 | U87: 조류질병대응팀 | V87: 가금농가 질병관리 지원
A88: 74 | B88: Tryptic Soy broth | C88: BD, Bacto Tryptic Soy Broth, TSB 500g, 211825 | D88: bt | E88: =SUM(N88:T88) -> 3 | F88: =VLOOKUP(A88,규격서!$A$4:$E$121,6,0) -> #REF! | G88: =E88*F88 -> #REF! | H88: =VLOOKUP(A88,규격서!$A$4:$E$121,8,0) -> #REF! | I88: =E88*H88 -> #REF! | J88: =VLOOKUP(A88,규격서!$A$4:$E$121,10,0) -> #REF! | K88: =J88*E88 -> #REF! | L88: =VLOOKUP(A88,규격서!$A$4:$E$121,12,0) -> #REF! | M88: =E88*L88 -> #REF! | R88: 3 | U88: 조류질병대응팀 | V88: 가금농가 질병관리 지원
A89: 75 | B89: RV broth | C89: Rappaport-Vassiliadis R10 (RV) Enrichment Broth / oxoid / CM0669B / 500g | D89: bt | E89: =SUM(N89:T89) -> 6 | F89: =VLOOKUP(A89,규격서!$A$4:$E$121,6,0) -> #REF! | G89: =E89*F89 -> #REF! | H89: =VLOOKUP(A89,규격서!$A$4:$E$121,8,0) -> #REF! | I89: =E89*H89 -> #REF! | J89: =VLOOKUP(A89,규격서!$A$4:$E$121,10,0) -> #REF! | K89: =J89*E89 -> #REF! | L89: =VLOOKUP(A89,규격서!$A$4:$E$121,12,0) -> #REF! | M89: =E89*L89 -> #REF! | R89: 3 | T89: 3 | U89: 조류질병대응팀 | V89: 가금농가 질병관리 지원
A90: 76 | B90: VITEK2 GN ID card | C90: bioMérieux, 21341, 20cards/box(VITEK2의 소모품) | D90: box | E90: =SUM(N90:T90) -> 3 | F90: =VLOOKUP(A90,규격서!$A$4:$E$121,6,0) -> #REF! | G90: =E90*F90 -> #REF! | H90: =VLOOKUP(A90,규격서!$A$4:$E$121,8,0) -> #REF! | I90: =E90*H90 -> #REF! | J90: =VLOOKUP(A90,규격서!$A$4:$E$121,10,0) -> #REF! | K90: =J90*E90 -> #REF! | L90: =VLOOKUP(A90,규격서!$A$4:$E$121,12,0) -> #REF! | M90: =E90*L90 -> #REF! | O90: 3 | U90: 질병진단팀 | V90: 반려동물항생제내성모니터링
A91: 77 | B91: VITEK2 GP ID card | C91: bioMérieux, 21342, 20cards/box(VITEK2의 소모품) | D91: box | E91: =SUM(N91:T91) -> 4 | F91: =VLOOKUP(A91,규격서!$A$4:$E$121,6,0) -> #REF! | G91: =E91*F91 -> #REF! | H91: =VLOOKUP(A91,규격서!$A$4:$E$121,8,0) -> #REF! | I91: =E91*H91 -> #REF! | J91: =VLOOKUP(A91,규격서!$A$4:$E$121,10,0) -> #REF! | K91: =J91*E91 -> #REF! | L91: =VLOOKUP(A91,규격서!$A$4:$E$121,12,0) -> #REF! | M91: =E91*L91 -> #REF! | O91: 4 | U91: 질병진단팀 | V91: 반려동물항생제내성모니터링
A92: 78 | B92: VITEK2 ANC ID card | C92: bioMérieux, 21347, 20cards/box(VITEK2의 소모품) | D92: box | E92: =SUM(N92:T92) -> 1 | F92: =VLOOKUP(A92,규격서!$A$4:$E$121,6,0) -> #REF! | G92: =E92*F92 -> #REF! | H92: =VLOOKUP(A92,규격서!$A$4:$E$121,8,0) -> #REF! | I92: =E92*H92 -> #REF! | J92: =VLOOKUP(A92,규격서!$A$4:$E$121,10,0) -> #REF! | K92: =J92*E92 -> #REF! | L92: =VLOOKUP(A92,규격서!$A$4:$E$121,12,0) -> #REF! | M92: =E92*L92 -> #REF! | O92: 1 | U92: 질병진단팀 | V92: 반려동물항생제내성모니터링
A93: 79 | B93: VITEK2 GP80 AST Card | C93: bioMérieux, 421826, 20cards/box | D93: box | E93: =SUM(N93:T93) -> 6 | F93: =VLOOKUP(A93,규격서!$A$4:$E$121,6,0) -> #REF! | G93: =E93*F93 -> #REF! | H93: =VLOOKUP(A93,규격서!$A$4:$E$121,8,0) -> #REF! | I93: =E93*H93 -> #REF! | J93: =VLOOKUP(A93,규격서!$A$4:$E$121,10,0) -> #REF! | K93: =J93*E93 -> #REF! | L93: =VLOOKUP(A93,규격서!$A$4:$E$121,12,0) -> #REF! | M93: =E93*L93 -> #REF! | O93: 6 | U93: 질병진단팀 | V93: 반려동물항생제내성모니터링
A94: 80 | B94: VITEK2 GN97 AST Card | C94: bioMérieux, 422000, 20cards/box | D94: box | E94: =SUM(N94:T94) -> 1 | F94: =VLOOKUP(A94,규격서!$A$4:$E$121,6,0) -> #REF! | G94: =E94*F94 -> #REF! | H94: =VLOOKUP(A94,규격서!$A$4:$E$121,8,0) -> #REF! | I94: =E94*H94 -> #REF! | J94: =VLOOKUP(A94,규격서!$A$4:$E$121,10,0) -> #REF! | K94: =J94*E94 -> #REF! | L94: =VLOOKUP(A94,규격서!$A$4:$E$121,12,0) -> #REF! | M94: =E94*L94 -> #REF! | O94: 1 | U94: 질병진단팀 | V94: 반려동물항생제내성모니터링
A95: 81 | B95: AR MAT | C95: MEDIAN 200T/box, RS-ARH-51 (액체화된 MAT항원을 이용한 응집검사제품) | D95: box | E95: =SUM(N95:T95) -> 11 | F95: =VLOOKUP(A95,규격서!$A$4:$E$121,6,0) -> #REF! | G95: =E95*F95 -> #REF! | H95: =VLOOKUP(A95,규격서!$A$4:$E$121,8,0) -> #REF! | I95: =E95*H95 -> #REF! | J95: =VLOOKUP(A95,규격서!$A$4:$E$121,10,0) -> #REF! | K95: =J95*E95 -> #REF! | L95: =VLOOKUP(A95,규격서!$A$4:$E$121,12,0) -> #REF! | M95: =E95*L95 -> #REF! | O95: 1 | S95: 6 | T95: 4 | U95: 질병진단팀 | V95: 가축질병 모니터링
A96: 82 | B96: Mycoplasma gallisepticum Ab Test Kit (종계장검사용) | C96: [BioChek] CK114, ,MG, 460tests/box | D96: box | E96: =SUM(N96:T96) -> 8 | F96: =VLOOKUP(A96,규격서!$A$4:$E$121,6,0) -> #REF! | G96: =E96*F96 -> #REF! | H96: =VLOOKUP(A96,규격서!$A$4:$E$121,8,0) -> #REF! | I96: =E96*H96 -> #REF! | J96: =VLOOKUP(A96,규격서!$A$4:$E$121,10,0) -> #REF! | K96: =J96*E96 -> #REF! | L96: =VLOOKUP(A96,규격서!$A$4:$E$121,12,0) -> #REF! | M96: =E96*L96 -> #REF! | R96: 2 | S96: 2 | T96: 4 | U96: 조류질병대응팀 | V96: 가금농가 질병관리 지원
A97: 83 | B97: QX Alignment Marker 15 bp/1 kb (1.5 ml) | C97: QX Alignment Marker 15 bp/1 kb (1.5 ml) Cat.no. 929521 | D97: ea | E97: =SUM(N97:T97) -> 1 | F97: =VLOOKUP(A97,규격서!$A$4:$E$121,6,0) -> #REF! | G97: =E97*F97 -> #REF! | H97: =VLOOKUP(A97,규격서!$A$4:$E$121,8,0) -> #REF! | I97: =E97*H97 -> #REF! | J97: =VLOOKUP(A97,규격서!$A$4:$E$121,10,0) -> #REF! | K97: =J97*E97 -> #REF! | L97: =VLOOKUP(A97,규격서!$A$4:$E$121,12,0) -> #REF! | M97: =E97*L97 -> #REF! | S97: 1 | U97: 질병진단팀 | V97: 혈청검사 및 병성감정
A98: 84 | B98: QX Size Marker 50 - 800 bp v2.0 (50 µl) | C98: QX Size Marker 50 - 800 bp v2.0 (50 µl) Cat.no. 929561 | D98: ea | E98: =SUM(N98:T98) -> 1 | F98: =VLOOKUP(A98,규격서!$A$4:$E$121,6,0) -> #REF! | G98: =E98*F98 -> #REF! | H98: =VLOOKUP(A98,규격서!$A$4:$E$121,8,0) -> #REF! | I98: =E98*H98 -> #REF! | J98: =VLOOKUP(A98,규격서!$A$4:$E$121,10,0) -> #REF! | K98: =J98*E98 -> #REF! | L98: =VLOOKUP(A98,규격서!$A$4:$E$121,12,0) -> #REF! | M98: =E98*L98 -> #REF! | S98: 1 | U98: 질병진단팀 | V98: 혈청검사 및 병성감정
A99: 85 | B99: QIAamp Viral RNA Mini QIAcube Kit (240) | C99: QIAamp Viral RNA Mini QIAcube Kit (240), Cat.no.52926 | D99: kit | E99: =SUM(N99:T99) -> 5 | F99: =VLOOKUP(A99,규격서!$A$4:$E$121,6,0) -> #REF! | G99: =E99*F99 -> #REF! | H99: =VLOOKUP(A99,규격서!$A$4:$E$121,8,0) -> #REF! | I99: =E99*H99 -> #REF! | J99: =VLOOKUP(A99,규격서!$A$4:$E$121,10,0) -> #REF! | K99: =J99*E99 -> #REF! | L99: =VLOOKUP(A99,규격서!$A$4:$E$121,12,0) -> #REF! | M99: =E99*L99 -> #REF! | R99: 5 | U99: 조류질병대응팀 | V99: 주요전염병검진
A100: 86 | B100: Tryptic soy broth(TSB) | C100: [oxoid] Tryptic soy broth 500g / CM0129B | D100: bt | E100: =SUM(N100:T100) -> 3 | F100: =VLOOKUP(A100,규격서!$A$4:$E$121,6,0) -> #REF! | G100: =E100*F100 -> #REF! | H100: =VLOOKUP(A100,규격서!$A$4:$E$121,8,0) -> #REF! | I100: =E100*H100 -> #REF! | J100: =VLOOKUP(A100,규격서!$A$4:$E$121,10,0) -> #REF! | K100: =J100*E100 -> #REF! | L100: =VLOOKUP(A100,규격서!$A$4:$E$121,12,0) -> #REF! | M100: =E100*L100 -> #REF! | R100: 3 | U100: 조류질병대응팀 | V100: 가금농가 질병관리 지원
...
